BEGIN:VCALENDAR
VERSION:2.0
PRODID:-//St. Kieran Catholic School - ECPv6.15.17.1//NONSGML v1.0//EN
CALSCALE:GREGORIAN
METHOD:PUBLISH
X-ORIGINAL-URL:https://www.saintkierancatholicschool.org
X-WR-CALDESC:Events for St. Kieran Catholic School
REFRESH-INTERVAL;VALUE=DURATION:PT1H
X-Robots-Tag:noindex
X-PUBLISHED-TTL:PT1H
BEGIN:VTIMEZONE
TZID:America/Los_Angeles
BEGIN:DAYLIGHT
TZOFFSETFROM:-0800
TZOFFSETTO:-0700
TZNAME:PDT
DTSTART:20240310T100000
END:DAYLIGHT
BEGIN:STANDARD
TZOFFSETFROM:-0700
TZOFFSETTO:-0800
TZNAME:PST
DTSTART:20241103T090000
END:STANDARD
BEGIN:DAYLIGHT
TZOFFSETFROM:-0800
TZOFFSETTO:-0700
TZNAME:PDT
DTSTART:20250309T100000
END:DAYLIGHT
BEGIN:STANDARD
TZOFFSETFROM:-0700
TZOFFSETTO:-0800
TZNAME:PST
DTSTART:20251102T090000
END:STANDARD
BEGIN:DAYLIGHT
TZOFFSETFROM:-0800
TZOFFSETTO:-0700
TZNAME:PDT
DTSTART:20260308T100000
END:DAYLIGHT
BEGIN:STANDARD
TZOFFSETFROM:-0700
TZOFFSETTO:-0800
TZNAME:PST
DTSTART:20261101T090000
END:STANDARD
END:VTIMEZONE
BEGIN:VEVENT
DTSTART;VALUE=DATE:20250106
DTEND;VALUE=DATE:20250107
DTSTAMP:20260424T142431
CREATED:20241031T054110Z
LAST-MODIFIED:20241031T054110Z
UID:10000137-1736121600-1736207999@www.saintkierancatholicschool.org
SUMMARY:Return to School
DESCRIPTION:
URL:https://www.saintkierancatholicschool.org/event/return-to-school
END:VEVENT
BEGIN:VEVENT
DTSTART;VALUE=DATE:20250106
DTEND;VALUE=DATE:20250107
DTSTAMP:20260424T142431
CREATED:20250110T214409Z
LAST-MODIFIED:20250110T214409Z
UID:10000335-1736121600-1736207999@www.saintkierancatholicschool.org
SUMMARY:Epiphany of the Lord
DESCRIPTION:
URL:https://www.saintkierancatholicschool.org/event/epiphany-of-the-lord
END:VEVENT
BEGIN:VEVENT
DTSTART;TZID=America/Los_Angeles:20250106T081500
DTEND;TZID=America/Los_Angeles:20250106T081500
DTSTAMP:20260424T142431
CREATED:20241031T054111Z
LAST-MODIFIED:20241031T054111Z
UID:10000138-1736151300-1736151300@www.saintkierancatholicschool.org
SUMMARY:Morning Assembly
DESCRIPTION:
URL:https://www.saintkierancatholicschool.org/event/morning-assembly-9
END:VEVENT
END:VCALENDAR