BEGIN:VCALENDAR
VERSION:2.0
PRODID:-//St. Kieran Catholic School - ECPv6.15.17.1//NONSGML v1.0//EN
CALSCALE:GREGORIAN
METHOD:PUBLISH
X-WR-CALNAME:St. Kieran Catholic School
X-ORIGINAL-URL:https://www.saintkierancatholicschool.org
X-WR-CALDESC:Events for St. Kieran Catholic School
REFRESH-INTERVAL;VALUE=DURATION:PT1H
X-Robots-Tag:noindex
X-PUBLISHED-TTL:PT1H
BEGIN:VTIMEZONE
TZID:America/Los_Angeles
BEGIN:DAYLIGHT
TZOFFSETFROM:-0800
TZOFFSETTO:-0700
TZNAME:PDT
DTSTART:20240310T100000
END:DAYLIGHT
BEGIN:STANDARD
TZOFFSETFROM:-0700
TZOFFSETTO:-0800
TZNAME:PST
DTSTART:20241103T090000
END:STANDARD
BEGIN:DAYLIGHT
TZOFFSETFROM:-0800
TZOFFSETTO:-0700
TZNAME:PDT
DTSTART:20250309T100000
END:DAYLIGHT
BEGIN:STANDARD
TZOFFSETFROM:-0700
TZOFFSETTO:-0800
TZNAME:PST
DTSTART:20251102T090000
END:STANDARD
BEGIN:DAYLIGHT
TZOFFSETFROM:-0800
TZOFFSETTO:-0700
TZNAME:PDT
DTSTART:20260308T100000
END:DAYLIGHT
BEGIN:STANDARD
TZOFFSETFROM:-0700
TZOFFSETTO:-0800
TZNAME:PST
DTSTART:20261101T090000
END:STANDARD
END:VTIMEZONE
BEGIN:VEVENT
DTSTART;VALUE=DATE:20250121
DTEND;VALUE=DATE:20250201
DTSTAMP:20260424T142336
CREATED:20250116T155004Z
LAST-MODIFIED:20250116T155004Z
UID:10000338-1737417600-1738367999@www.saintkierancatholicschool.org
SUMMARY:STAR Testing
DESCRIPTION:
URL:https://www.saintkierancatholicschool.org/event/star-testing
END:VEVENT
BEGIN:VEVENT
DTSTART;VALUE=DATE:20250125
DTEND;VALUE=DATE:20250202
DTSTAMP:20260424T142336
CREATED:20241031T054152Z
LAST-MODIFIED:20250107T005007Z
UID:10000159-1737763200-1738454399@www.saintkierancatholicschool.org
SUMMARY:Catholic Schools Week
DESCRIPTION:
URL:https://www.saintkierancatholicschool.org/event/catholic-schools-week
END:VEVENT
BEGIN:VEVENT
DTSTART;VALUE=DATE:20250128
DTEND;VALUE=DATE:20250129
DTSTAMP:20260424T142336
CREATED:20250123T210631Z
LAST-MODIFIED:20250123T214248Z
UID:10000344-1738022400-1738108799@www.saintkierancatholicschool.org
SUMMARY:Color Wars Dress Day
DESCRIPTION:
URL:https://www.saintkierancatholicschool.org/event/color-wars-dress-up
END:VEVENT
BEGIN:VEVENT
DTSTART;VALUE=DATE:20250128
DTEND;VALUE=DATE:20250129
DTSTAMP:20260424T142336
CREATED:20250127T205923Z
LAST-MODIFIED:20250127T205923Z
UID:10000349-1738022400-1738108799@www.saintkierancatholicschool.org
SUMMARY:No Homework
DESCRIPTION:
URL:https://www.saintkierancatholicschool.org/event/no-homework
END:VEVENT
END:VCALENDAR