BEGIN:VCALENDAR
VERSION:2.0
PRODID:-//St. Kieran Catholic School - ECPv6.15.17.1//NONSGML v1.0//EN
CALSCALE:GREGORIAN
METHOD:PUBLISH
X-ORIGINAL-URL:https://www.saintkierancatholicschool.org
X-WR-CALDESC:Events for St. Kieran Catholic School
REFRESH-INTERVAL;VALUE=DURATION:PT1H
X-Robots-Tag:noindex
X-PUBLISHED-TTL:PT1H
BEGIN:VTIMEZONE
TZID:America/Los_Angeles
BEGIN:DAYLIGHT
TZOFFSETFROM:-0800
TZOFFSETTO:-0700
TZNAME:PDT
DTSTART:20240310T100000
END:DAYLIGHT
BEGIN:STANDARD
TZOFFSETFROM:-0700
TZOFFSETTO:-0800
TZNAME:PST
DTSTART:20241103T090000
END:STANDARD
BEGIN:DAYLIGHT
TZOFFSETFROM:-0800
TZOFFSETTO:-0700
TZNAME:PDT
DTSTART:20250309T100000
END:DAYLIGHT
BEGIN:STANDARD
TZOFFSETFROM:-0700
TZOFFSETTO:-0800
TZNAME:PST
DTSTART:20251102T090000
END:STANDARD
BEGIN:DAYLIGHT
TZOFFSETFROM:-0800
TZOFFSETTO:-0700
TZNAME:PDT
DTSTART:20260308T100000
END:DAYLIGHT
BEGIN:STANDARD
TZOFFSETFROM:-0700
TZOFFSETTO:-0800
TZNAME:PST
DTSTART:20261101T090000
END:STANDARD
END:VTIMEZONE
BEGIN:VEVENT
DTSTART;VALUE=DATE:20250304
DTEND;VALUE=DATE:20250305
DTSTAMP:20260424T192129
CREATED:20241031T055110Z
LAST-MODIFIED:20241031T055110Z
UID:10000199-1741046400-1741132799@www.saintkierancatholicschool.org
SUMMARY:Mardi Gras/St. Kieran Day
DESCRIPTION:
URL:https://www.saintkierancatholicschool.org/event/mardi-gras-st-kieran-day
END:VEVENT
BEGIN:VEVENT
DTSTART;VALUE=DATE:20250304
DTEND;VALUE=DATE:20250305
DTSTAMP:20260424T192129
CREATED:20241120T211418Z
LAST-MODIFIED:20241120T211418Z
UID:10000318-1741046400-1741132799@www.saintkierancatholicschool.org
SUMMARY:Wear SK spirit shirts for PE
DESCRIPTION:
URL:https://www.saintkierancatholicschool.org/event/wear-sk-spirit-shirts-for-pe
END:VEVENT
BEGIN:VEVENT
DTSTART;VALUE=DATE:20250304
DTEND;VALUE=DATE:20250305
DTSTAMP:20260424T192129
CREATED:20250205T161206Z
LAST-MODIFIED:20250205T161206Z
UID:10000354-1741046400-1741132799@www.saintkierancatholicschool.org
SUMMARY:Vision Screening
DESCRIPTION:
URL:https://www.saintkierancatholicschool.org/event/vision-screening
END:VEVENT
BEGIN:VEVENT
DTSTART;VALUE=DATE:20250304
DTEND;VALUE=DATE:20250305
DTSTAMP:20260424T192129
CREATED:20250226T165417Z
LAST-MODIFIED:20250226T165417Z
UID:10000369-1741046400-1741132799@www.saintkierancatholicschool.org
SUMMARY:PE - All Grades
DESCRIPTION:
URL:https://www.saintkierancatholicschool.org/event/pe-all-grades-32
END:VEVENT
END:VCALENDAR