BEGIN:VCALENDAR
VERSION:2.0
PRODID:-//St. Kieran Catholic School - ECPv6.15.17.1//NONSGML v1.0//EN
CALSCALE:GREGORIAN
METHOD:PUBLISH
X-ORIGINAL-URL:https://www.saintkierancatholicschool.org
X-WR-CALDESC:Events for St. Kieran Catholic School
REFRESH-INTERVAL;VALUE=DURATION:PT1H
X-Robots-Tag:noindex
X-PUBLISHED-TTL:PT1H
BEGIN:VTIMEZONE
TZID:America/Los_Angeles
BEGIN:DAYLIGHT
TZOFFSETFROM:-0800
TZOFFSETTO:-0700
TZNAME:PDT
DTSTART:20240310T100000
END:DAYLIGHT
BEGIN:STANDARD
TZOFFSETFROM:-0700
TZOFFSETTO:-0800
TZNAME:PST
DTSTART:20241103T090000
END:STANDARD
BEGIN:DAYLIGHT
TZOFFSETFROM:-0800
TZOFFSETTO:-0700
TZNAME:PDT
DTSTART:20250309T100000
END:DAYLIGHT
BEGIN:STANDARD
TZOFFSETFROM:-0700
TZOFFSETTO:-0800
TZNAME:PST
DTSTART:20251102T090000
END:STANDARD
BEGIN:DAYLIGHT
TZOFFSETFROM:-0800
TZOFFSETTO:-0700
TZNAME:PDT
DTSTART:20260308T100000
END:DAYLIGHT
BEGIN:STANDARD
TZOFFSETFROM:-0700
TZOFFSETTO:-0800
TZNAME:PST
DTSTART:20261101T090000
END:STANDARD
END:VTIMEZONE
BEGIN:VEVENT
DTSTART;VALUE=DATE:20250310
DTEND;VALUE=DATE:20250311
DTSTAMP:20260424T173817
CREATED:20241031T055507Z
LAST-MODIFIED:20241031T055507Z
UID:10000205-1741564800-1741651199@www.saintkierancatholicschool.org
SUMMARY:Leprechaun Traps Due
DESCRIPTION:
URL:https://www.saintkierancatholicschool.org/event/leprechaun-traps-due
END:VEVENT
BEGIN:VEVENT
DTSTART;TZID=America/Los_Angeles:20250310T081500
DTEND;TZID=America/Los_Angeles:20250310T081500
DTSTAMP:20260424T173817
CREATED:20241031T055508Z
LAST-MODIFIED:20241031T055508Z
UID:10000206-1741594500-1741594500@www.saintkierancatholicschool.org
SUMMARY:Morning Assembly
DESCRIPTION:
URL:https://www.saintkierancatholicschool.org/event/morning-assembly-18
END:VEVENT
BEGIN:VEVENT
DTSTART;TZID=America/Los_Angeles:20250310T141500
DTEND;TZID=America/Los_Angeles:20250310T141500
DTSTAMP:20260424T173817
CREATED:20241031T055509Z
LAST-MODIFIED:20250219T162409Z
UID:10000207-1741616100-1741616100@www.saintkierancatholicschool.org
SUMMARY:Schoolwide Rosary
DESCRIPTION:
URL:https://www.saintkierancatholicschool.org/event/schoolwide-rosary-5
END:VEVENT
END:VCALENDAR