BEGIN:VCALENDAR
VERSION:2.0
PRODID:-//St. Kieran Catholic School - ECPv6.15.17.1//NONSGML v1.0//EN
CALSCALE:GREGORIAN
METHOD:PUBLISH
X-ORIGINAL-URL:https://www.saintkierancatholicschool.org
X-WR-CALDESC:Events for St. Kieran Catholic School
REFRESH-INTERVAL;VALUE=DURATION:PT1H
X-Robots-Tag:noindex
X-PUBLISHED-TTL:PT1H
BEGIN:VTIMEZONE
TZID:America/Los_Angeles
BEGIN:DAYLIGHT
TZOFFSETFROM:-0800
TZOFFSETTO:-0700
TZNAME:PDT
DTSTART:20240310T100000
END:DAYLIGHT
BEGIN:STANDARD
TZOFFSETFROM:-0700
TZOFFSETTO:-0800
TZNAME:PST
DTSTART:20241103T090000
END:STANDARD
BEGIN:DAYLIGHT
TZOFFSETFROM:-0800
TZOFFSETTO:-0700
TZNAME:PDT
DTSTART:20250309T100000
END:DAYLIGHT
BEGIN:STANDARD
TZOFFSETFROM:-0700
TZOFFSETTO:-0800
TZNAME:PST
DTSTART:20251102T090000
END:STANDARD
BEGIN:DAYLIGHT
TZOFFSETFROM:-0800
TZOFFSETTO:-0700
TZNAME:PDT
DTSTART:20260308T100000
END:DAYLIGHT
BEGIN:STANDARD
TZOFFSETFROM:-0700
TZOFFSETTO:-0800
TZNAME:PST
DTSTART:20261101T090000
END:STANDARD
END:VTIMEZONE
BEGIN:VEVENT
DTSTART;VALUE=DATE:20250317
DTEND;VALUE=DATE:20250318
DTSTAMP:20260424T192145
CREATED:20241031T055710Z
LAST-MODIFIED:20241031T055710Z
UID:10000214-1742169600-1742255999@www.saintkierancatholicschool.org
SUMMARY:St. Patrick's Day
DESCRIPTION:
URL:https://www.saintkierancatholicschool.org/event/st-patricks-day
END:VEVENT
BEGIN:VEVENT
DTSTART;VALUE=DATE:20250317
DTEND;VALUE=DATE:20250318
DTSTAMP:20260424T192145
CREATED:20241031T055907Z
LAST-MODIFIED:20241031T055907Z
UID:10000215-1742169600-1742255999@www.saintkierancatholicschool.org
SUMMARY:St. Patrick's Day Spirit Day - Wear Green
DESCRIPTION:
URL:https://www.saintkierancatholicschool.org/event/st-patricks-day-spirit-day-wear-green
END:VEVENT
BEGIN:VEVENT
DTSTART;VALUE=DATE:20250317
DTEND;VALUE=DATE:20250322
DTSTAMP:20260424T192145
CREATED:20241031T055709Z
LAST-MODIFIED:20250107T005619Z
UID:10000213-1742169600-1742601599@www.saintkierancatholicschool.org
SUMMARY:Book Fair
DESCRIPTION:
URL:https://www.saintkierancatholicschool.org/event/book-fair
END:VEVENT
BEGIN:VEVENT
DTSTART;TZID=America/Los_Angeles:20250317T081500
DTEND;TZID=America/Los_Angeles:20250317T081500
DTSTAMP:20260424T192145
CREATED:20241031T055908Z
LAST-MODIFIED:20241031T055908Z
UID:10000216-1742199300-1742199300@www.saintkierancatholicschool.org
SUMMARY:Morning Assembly
DESCRIPTION:
URL:https://www.saintkierancatholicschool.org/event/morning-assembly-19
END:VEVENT
BEGIN:VEVENT
DTSTART;TZID=America/Los_Angeles:20250317T145000
DTEND;TZID=America/Los_Angeles:20250317T155000
DTSTAMP:20260424T192145
CREATED:20250226T165651Z
LAST-MODIFIED:20250226T165651Z
UID:10000371-1742223000-1742226600@www.saintkierancatholicschool.org
SUMMARY:Chess Club Begins
DESCRIPTION:
URL:https://www.saintkierancatholicschool.org/event/chess-club-begins
END:VEVENT
END:VCALENDAR