BEGIN:VCALENDAR
VERSION:2.0
PRODID:-//St. Kieran Catholic School - ECPv6.15.17.1//NONSGML v1.0//EN
CALSCALE:GREGORIAN
METHOD:PUBLISH
X-WR-CALNAME:St. Kieran Catholic School
X-ORIGINAL-URL:https://www.saintkierancatholicschool.org
X-WR-CALDESC:Events for St. Kieran Catholic School
REFRESH-INTERVAL;VALUE=DURATION:PT1H
X-Robots-Tag:noindex
X-PUBLISHED-TTL:PT1H
BEGIN:VTIMEZONE
TZID:America/Los_Angeles
BEGIN:DAYLIGHT
TZOFFSETFROM:-0800
TZOFFSETTO:-0700
TZNAME:PDT
DTSTART:20240310T100000
END:DAYLIGHT
BEGIN:STANDARD
TZOFFSETFROM:-0700
TZOFFSETTO:-0800
TZNAME:PST
DTSTART:20241103T090000
END:STANDARD
BEGIN:DAYLIGHT
TZOFFSETFROM:-0800
TZOFFSETTO:-0700
TZNAME:PDT
DTSTART:20250309T100000
END:DAYLIGHT
BEGIN:STANDARD
TZOFFSETFROM:-0700
TZOFFSETTO:-0800
TZNAME:PST
DTSTART:20251102T090000
END:STANDARD
BEGIN:DAYLIGHT
TZOFFSETFROM:-0800
TZOFFSETTO:-0700
TZNAME:PDT
DTSTART:20260308T100000
END:DAYLIGHT
BEGIN:STANDARD
TZOFFSETFROM:-0700
TZOFFSETTO:-0800
TZNAME:PST
DTSTART:20261101T090000
END:STANDARD
END:VTIMEZONE
BEGIN:VEVENT
DTSTART;VALUE=DATE:20250417
DTEND;VALUE=DATE:20250426
DTSTAMP:20260424T184128
CREATED:20241031T061309Z
LAST-MODIFIED:20241120T211914Z
UID:10000252-1744848000-1745625599@www.saintkierancatholicschool.org
SUMMARY:Easter Holiday
DESCRIPTION:
URL:https://www.saintkierancatholicschool.org/event/easter-holiday
END:VEVENT
BEGIN:VEVENT
DTSTART;VALUE=DATE:20250418
DTEND;VALUE=DATE:20250419
DTSTAMP:20260424T184128
CREATED:20250404T053815Z
LAST-MODIFIED:20250404T053815Z
UID:10000404-1744934400-1745020799@www.saintkierancatholicschool.org
SUMMARY:Good Friday
DESCRIPTION:
URL:https://www.saintkierancatholicschool.org/event/good-friday
END:VEVENT
BEGIN:VEVENT
DTSTART;TZID=America/Los_Angeles:20250418T150000
DTEND;TZID=America/Los_Angeles:20250418T150000
DTSTAMP:20260424T184128
CREATED:20250415T190219Z
LAST-MODIFIED:20250415T190219Z
UID:10000419-1744988400-1744988400@www.saintkierancatholicschool.org
SUMMARY:Liturgy
DESCRIPTION:
URL:https://www.saintkierancatholicschool.org/event/liturgy
END:VEVENT
END:VCALENDAR