BEGIN:VCALENDAR
VERSION:2.0
PRODID:-//St. Kieran Catholic School - ECPv6.15.17.1//NONSGML v1.0//EN
CALSCALE:GREGORIAN
METHOD:PUBLISH
X-WR-CALNAME:St. Kieran Catholic School
X-ORIGINAL-URL:https://www.saintkierancatholicschool.org
X-WR-CALDESC:Events for St. Kieran Catholic School
REFRESH-INTERVAL;VALUE=DURATION:PT1H
X-Robots-Tag:noindex
X-PUBLISHED-TTL:PT1H
BEGIN:VTIMEZONE
TZID:America/Los_Angeles
BEGIN:DAYLIGHT
TZOFFSETFROM:-0800
TZOFFSETTO:-0700
TZNAME:PDT
DTSTART:20240310T100000
END:DAYLIGHT
BEGIN:STANDARD
TZOFFSETFROM:-0700
TZOFFSETTO:-0800
TZNAME:PST
DTSTART:20241103T090000
END:STANDARD
BEGIN:DAYLIGHT
TZOFFSETFROM:-0800
TZOFFSETTO:-0700
TZNAME:PDT
DTSTART:20250309T100000
END:DAYLIGHT
BEGIN:STANDARD
TZOFFSETFROM:-0700
TZOFFSETTO:-0800
TZNAME:PST
DTSTART:20251102T090000
END:STANDARD
BEGIN:DAYLIGHT
TZOFFSETFROM:-0800
TZOFFSETTO:-0700
TZNAME:PDT
DTSTART:20260308T100000
END:DAYLIGHT
BEGIN:STANDARD
TZOFFSETFROM:-0700
TZOFFSETTO:-0800
TZNAME:PST
DTSTART:20261101T090000
END:STANDARD
END:VTIMEZONE
BEGIN:VEVENT
DTSTART;VALUE=DATE:20250505
DTEND;VALUE=DATE:20250510
DTSTAMP:20260424T152541
CREATED:20241031T061907Z
LAST-MODIFIED:20241031T061907Z
UID:10000265-1746403200-1746835199@www.saintkierancatholicschool.org
SUMMARY:Teacher Appreciation Week
DESCRIPTION:
URL:https://www.saintkierancatholicschool.org/event/teacher-appreciation-week
END:VEVENT
BEGIN:VEVENT
DTSTART;VALUE=DATE:20250509
DTEND;VALUE=DATE:20250510
DTSTAMP:20260424T152541
CREATED:20250205T161835Z
LAST-MODIFIED:20250205T161835Z
UID:10000357-1746748800-1746835199@www.saintkierancatholicschool.org
SUMMARY:3rd Grade It’s A Small World Celebration
DESCRIPTION:
URL:https://www.saintkierancatholicschool.org/event/3rd-grade-its-a-small-world-celebration
END:VEVENT
BEGIN:VEVENT
DTSTART;VALUE=DATE:20250509
DTEND;VALUE=DATE:20250510
DTSTAMP:20260424T152541
CREATED:20250430T192741Z
LAST-MODIFIED:20250430T192741Z
UID:10000431-1746748800-1746835199@www.saintkierancatholicschool.org
SUMMARY:8 Grade Gold Registration Form Due
DESCRIPTION:
URL:https://www.saintkierancatholicschool.org/event/8-grade-gold-registration-form-due
END:VEVENT
BEGIN:VEVENT
DTSTART;VALUE=DATE:20250509
DTEND;VALUE=DATE:20250510
DTSTAMP:20260424T152541
CREATED:20250430T192814Z
LAST-MODIFIED:20250430T192814Z
UID:10000432-1746748800-1746835199@www.saintkierancatholicschool.org
SUMMARY:Book Fair Preview Day
DESCRIPTION:
URL:https://www.saintkierancatholicschool.org/event/book-fair-preview-day
END:VEVENT
BEGIN:VEVENT
DTSTART;VALUE=DATE:20250509
DTEND;VALUE=DATE:20250510
DTSTAMP:20260424T152541
CREATED:20250430T193015Z
LAST-MODIFIED:20250430T193015Z
UID:10000434-1746748800-1746835199@www.saintkierancatholicschool.org
SUMMARY:8th Grader Golf Registration Form Due
DESCRIPTION:
URL:https://www.saintkierancatholicschool.org/event/8th-grader-golf-registration-form-due
END:VEVENT
BEGIN:VEVENT
DTSTART;VALUE=DATE:20250509
DTEND;VALUE=DATE:20250510
DTSTAMP:20260424T152541
CREATED:20250507T185811Z
LAST-MODIFIED:20250507T185811Z
UID:10000439-1746748800-1746835199@www.saintkierancatholicschool.org
SUMMARY:PTG Nominations Due
DESCRIPTION:
URL:https://www.saintkierancatholicschool.org/event/ptg-nominations-due
END:VEVENT
END:VCALENDAR