BEGIN:VCALENDAR
VERSION:2.0
PRODID:-//St. Kieran Catholic School - ECPv6.15.17.1//NONSGML v1.0//EN
CALSCALE:GREGORIAN
METHOD:PUBLISH
X-WR-CALNAME:St. Kieran Catholic School
X-ORIGINAL-URL:https://www.saintkierancatholicschool.org
X-WR-CALDESC:Events for St. Kieran Catholic School
REFRESH-INTERVAL;VALUE=DURATION:PT1H
X-Robots-Tag:noindex
X-PUBLISHED-TTL:PT1H
BEGIN:VTIMEZONE
TZID:America/Los_Angeles
BEGIN:DAYLIGHT
TZOFFSETFROM:-0800
TZOFFSETTO:-0700
TZNAME:PDT
DTSTART:20240310T100000
END:DAYLIGHT
BEGIN:STANDARD
TZOFFSETFROM:-0700
TZOFFSETTO:-0800
TZNAME:PST
DTSTART:20241103T090000
END:STANDARD
BEGIN:DAYLIGHT
TZOFFSETFROM:-0800
TZOFFSETTO:-0700
TZNAME:PDT
DTSTART:20250309T100000
END:DAYLIGHT
BEGIN:STANDARD
TZOFFSETFROM:-0700
TZOFFSETTO:-0800
TZNAME:PST
DTSTART:20251102T090000
END:STANDARD
BEGIN:DAYLIGHT
TZOFFSETFROM:-0800
TZOFFSETTO:-0700
TZNAME:PDT
DTSTART:20260308T100000
END:DAYLIGHT
BEGIN:STANDARD
TZOFFSETFROM:-0700
TZOFFSETTO:-0800
TZNAME:PST
DTSTART:20261101T090000
END:STANDARD
END:VTIMEZONE
BEGIN:VEVENT
DTSTART;VALUE=DATE:20250510
DTEND;VALUE=DATE:20250511
DTSTAMP:20260424T152513
CREATED:20250430T192916Z
LAST-MODIFIED:20250430T192916Z
UID:10000433-1746835200-1746921599@www.saintkierancatholicschool.org
SUMMARY:CCHS Memorial Track Meet
DESCRIPTION:
URL:https://www.saintkierancatholicschool.org/event/cchs-memorial-track-meet
END:VEVENT
BEGIN:VEVENT
DTSTART;TZID=America/Los_Angeles:20250510T080000
DTEND;TZID=America/Los_Angeles:20250510T080000
DTSTAMP:20260424T152513
CREATED:20250415T190707Z
LAST-MODIFIED:20250415T190707Z
UID:10000424-1746864000-1746864000@www.saintkierancatholicschool.org
SUMMARY:Varsity Boys Soccer vs. St. John of the Cross
DESCRIPTION:
URL:https://www.saintkierancatholicschool.org/event/varsity-boys-soccer-vs-st-john-of-the-cross
LOCATION:Holy Trinity
END:VEVENT
BEGIN:VEVENT
DTSTART;TZID=America/Los_Angeles:20250510T090000
DTEND;TZID=America/Los_Angeles:20250510T090000
DTSTAMP:20260424T152513
CREATED:20250415T191024Z
LAST-MODIFIED:20250415T191024Z
UID:10000427-1746867600-1746867600@www.saintkierancatholicschool.org
SUMMARY:Junior Varsity Boys Soccer vs. All Hollows
DESCRIPTION:
URL:https://www.saintkierancatholicschool.org/event/junior-varsity-boys-soccer-vs-all-hollows
LOCATION:Holy Trinity
END:VEVENT
BEGIN:VEVENT
DTSTART;TZID=America/Los_Angeles:20250510T121500
DTEND;TZID=America/Los_Angeles:20250510T121500
DTSTAMP:20260424T152513
CREATED:20250415T191130Z
LAST-MODIFIED:20250415T191130Z
UID:10000428-1746879300-1746879300@www.saintkierancatholicschool.org
SUMMARY:Junior Varsity Girls Basketball vs. St. Charles
DESCRIPTION:
URL:https://www.saintkierancatholicschool.org/event/junior-varsity-girls-basketball-vs-st-charles
LOCATION:Christ Lutheran
END:VEVENT
END:VCALENDAR