BEGIN:VCALENDAR
VERSION:2.0
PRODID:-//St. Kieran Catholic School - ECPv6.15.17.1//NONSGML v1.0//EN
CALSCALE:GREGORIAN
METHOD:PUBLISH
X-ORIGINAL-URL:https://www.saintkierancatholicschool.org
X-WR-CALDESC:Events for St. Kieran Catholic School
REFRESH-INTERVAL;VALUE=DURATION:PT1H
X-Robots-Tag:noindex
X-PUBLISHED-TTL:PT1H
BEGIN:VTIMEZONE
TZID:America/Los_Angeles
BEGIN:DAYLIGHT
TZOFFSETFROM:-0800
TZOFFSETTO:-0700
TZNAME:PDT
DTSTART:20240310T100000
END:DAYLIGHT
BEGIN:STANDARD
TZOFFSETFROM:-0700
TZOFFSETTO:-0800
TZNAME:PST
DTSTART:20241103T090000
END:STANDARD
BEGIN:DAYLIGHT
TZOFFSETFROM:-0800
TZOFFSETTO:-0700
TZNAME:PDT
DTSTART:20250309T100000
END:DAYLIGHT
BEGIN:STANDARD
TZOFFSETFROM:-0700
TZOFFSETTO:-0800
TZNAME:PST
DTSTART:20251102T090000
END:STANDARD
BEGIN:DAYLIGHT
TZOFFSETFROM:-0800
TZOFFSETTO:-0700
TZNAME:PDT
DTSTART:20260308T100000
END:DAYLIGHT
BEGIN:STANDARD
TZOFFSETFROM:-0700
TZOFFSETTO:-0800
TZNAME:PST
DTSTART:20261101T090000
END:STANDARD
END:VTIMEZONE
BEGIN:VEVENT
DTSTART;VALUE=DATE:20250512
DTEND;VALUE=DATE:20250517
DTSTAMP:20260424T152831
CREATED:20250402T232027Z
LAST-MODIFIED:20250402T232027Z
UID:10000394-1747008000-1747439999@www.saintkierancatholicschool.org
SUMMARY:Saint Ignatius Book Fair
DESCRIPTION:
URL:https://www.saintkierancatholicschool.org/event/saint-ignatius-book-fair
END:VEVENT
BEGIN:VEVENT
DTSTART;VALUE=DATE:20250516
DTEND;VALUE=DATE:20250517
DTSTAMP:20260424T152831
CREATED:20241031T062308Z
LAST-MODIFIED:20241031T062308Z
UID:10000276-1747353600-1747439999@www.saintkierancatholicschool.org
SUMMARY:Deposit Day
DESCRIPTION:
URL:https://www.saintkierancatholicschool.org/event/deposit-day-13
END:VEVENT
BEGIN:VEVENT
DTSTART;VALUE=DATE:20250516
DTEND;VALUE=DATE:20250517
DTSTAMP:20260424T152831
CREATED:20241031T062309Z
LAST-MODIFIED:20241031T062309Z
UID:10000278-1747353600-1747439999@www.saintkierancatholicschool.org
SUMMARY:SKCS Spirit Day - Wear Purple and/or SKCS Apparel!
DESCRIPTION:
URL:https://www.saintkierancatholicschool.org/event/skcs-spirit-day-wear-purple-and-or-skcs-apparel
END:VEVENT
BEGIN:VEVENT
DTSTART;VALUE=DATE:20250516
DTEND;VALUE=DATE:20250517
DTSTAMP:20260424T152831
CREATED:20250411T171252Z
LAST-MODIFIED:20250411T171252Z
UID:10000416-1747353600-1747439999@www.saintkierancatholicschool.org
SUMMARY:5th Grade to Fleet Science Center
DESCRIPTION:
URL:https://www.saintkierancatholicschool.org/event/5th-grade-to-fleet-science-center
END:VEVENT
BEGIN:VEVENT
DTSTART;TZID=America/Los_Angeles:20250516T140000
DTEND;TZID=America/Los_Angeles:20250516T140000
DTSTAMP:20260424T152831
CREATED:20241031T062309Z
LAST-MODIFIED:20250507T190253Z
UID:10000277-1747404000-1747404000@www.saintkierancatholicschool.org
SUMMARY:Fire Drill
DESCRIPTION:
URL:https://www.saintkierancatholicschool.org/event/fire-drill-3
END:VEVENT
END:VCALENDAR