BEGIN:VCALENDAR
VERSION:2.0
PRODID:-//St. Kieran Catholic School - ECPv6.15.17.1//NONSGML v1.0//EN
CALSCALE:GREGORIAN
METHOD:PUBLISH
X-WR-CALNAME:St. Kieran Catholic School
X-ORIGINAL-URL:https://www.saintkierancatholicschool.org
X-WR-CALDESC:Events for St. Kieran Catholic School
REFRESH-INTERVAL;VALUE=DURATION:PT1H
X-Robots-Tag:noindex
X-PUBLISHED-TTL:PT1H
BEGIN:VTIMEZONE
TZID:America/Los_Angeles
BEGIN:DAYLIGHT
TZOFFSETFROM:-0800
TZOFFSETTO:-0700
TZNAME:PDT
DTSTART:20240310T100000
END:DAYLIGHT
BEGIN:STANDARD
TZOFFSETFROM:-0700
TZOFFSETTO:-0800
TZNAME:PST
DTSTART:20241103T090000
END:STANDARD
BEGIN:DAYLIGHT
TZOFFSETFROM:-0800
TZOFFSETTO:-0700
TZNAME:PDT
DTSTART:20250309T100000
END:DAYLIGHT
BEGIN:STANDARD
TZOFFSETFROM:-0700
TZOFFSETTO:-0800
TZNAME:PST
DTSTART:20251102T090000
END:STANDARD
BEGIN:DAYLIGHT
TZOFFSETFROM:-0800
TZOFFSETTO:-0700
TZNAME:PDT
DTSTART:20260308T100000
END:DAYLIGHT
BEGIN:STANDARD
TZOFFSETFROM:-0700
TZOFFSETTO:-0800
TZNAME:PST
DTSTART:20261101T090000
END:STANDARD
END:VTIMEZONE
BEGIN:VEVENT
DTSTART;VALUE=DATE:20250827
DTEND;VALUE=DATE:20250828
DTSTAMP:20260422T183742
CREATED:20250626T200929Z
LAST-MODIFIED:20250626T200929Z
UID:10000510-1756252800-1756339199@www.saintkierancatholicschool.org
SUMMARY:Student Council Permission Slips Sent Out
DESCRIPTION:
URL:https://www.saintkierancatholicschool.org/event/student-council-permission-slips-sent-out
END:VEVENT
BEGIN:VEVENT
DTSTART;TZID=America/Los_Angeles:20250827T083000
DTEND;TZID=America/Los_Angeles:20250827T083000
DTSTAMP:20260422T183742
CREATED:20250626T200714Z
LAST-MODIFIED:20250626T200714Z
UID:10000509-1756283400-1756283400@www.saintkierancatholicschool.org
SUMMARY:First Wednesday School Mass
DESCRIPTION:
URL:https://www.saintkierancatholicschool.org/event/first-wednesday-school-mass
END:VEVENT
BEGIN:VEVENT
DTSTART;TZID=America/Los_Angeles:20250827T130000
DTEND;TZID=America/Los_Angeles:20250827T130000
DTSTAMP:20260422T183742
CREATED:20250626T201207Z
LAST-MODIFIED:20250814T210446Z
UID:10000511-1756299600-1756299600@www.saintkierancatholicschool.org
SUMMARY:Early Dismissal
DESCRIPTION:
URL:https://www.saintkierancatholicschool.org/event/early-dismissal-41
END:VEVENT
END:VCALENDAR