BEGIN:VCALENDAR
VERSION:2.0
PRODID:-//St. Kieran Catholic School - ECPv6.15.17.1//NONSGML v1.0//EN
CALSCALE:GREGORIAN
METHOD:PUBLISH
X-ORIGINAL-URL:https://www.saintkierancatholicschool.org
X-WR-CALDESC:Events for St. Kieran Catholic School
REFRESH-INTERVAL;VALUE=DURATION:PT1H
X-Robots-Tag:noindex
X-PUBLISHED-TTL:PT1H
BEGIN:VTIMEZONE
TZID:America/Los_Angeles
BEGIN:DAYLIGHT
TZOFFSETFROM:-0800
TZOFFSETTO:-0700
TZNAME:PDT
DTSTART:20240310T100000
END:DAYLIGHT
BEGIN:STANDARD
TZOFFSETFROM:-0700
TZOFFSETTO:-0800
TZNAME:PST
DTSTART:20241103T090000
END:STANDARD
BEGIN:DAYLIGHT
TZOFFSETFROM:-0800
TZOFFSETTO:-0700
TZNAME:PDT
DTSTART:20250309T100000
END:DAYLIGHT
BEGIN:STANDARD
TZOFFSETFROM:-0700
TZOFFSETTO:-0800
TZNAME:PST
DTSTART:20251102T090000
END:STANDARD
BEGIN:DAYLIGHT
TZOFFSETFROM:-0800
TZOFFSETTO:-0700
TZNAME:PDT
DTSTART:20260308T100000
END:DAYLIGHT
BEGIN:STANDARD
TZOFFSETFROM:-0700
TZOFFSETTO:-0800
TZNAME:PST
DTSTART:20261101T090000
END:STANDARD
END:VTIMEZONE
BEGIN:VEVENT
DTSTART;VALUE=DATE:20250903
DTEND;VALUE=DATE:20250904
DTSTAMP:20260422T134912
CREATED:20250821T212603Z
LAST-MODIFIED:20250821T212603Z
UID:10000841-1756857600-1756943999@www.saintkierancatholicschool.org
SUMMARY:Last Day to Register for Fall Sports
DESCRIPTION:
URL:https://www.saintkierancatholicschool.org/event/last-day-to-register-for-fall-sports
END:VEVENT
BEGIN:VEVENT
DTSTART;TZID=America/Los_Angeles:20250903T083000
DTEND;TZID=America/Los_Angeles:20250903T083000
DTSTAMP:20260422T134912
CREATED:20250621T004004Z
LAST-MODIFIED:20250814T210730Z
UID:10000464-1756888200-1756888200@www.saintkierancatholicschool.org
SUMMARY:School Mass
DESCRIPTION:
URL:https://www.saintkierancatholicschool.org/event/school-mass-2
END:VEVENT
BEGIN:VEVENT
DTSTART;TZID=America/Los_Angeles:20250903T130000
DTEND;TZID=America/Los_Angeles:20250903T130000
DTSTAMP:20260422T134912
CREATED:20250815T151903Z
LAST-MODIFIED:20250815T151903Z
UID:10000793-1756904400-1756904400@www.saintkierancatholicschool.org
SUMMARY:Early Dismissal
DESCRIPTION:
URL:https://www.saintkierancatholicschool.org/event/early-dismissal-43
END:VEVENT
END:VCALENDAR