BEGIN:VCALENDAR
VERSION:2.0
PRODID:-//St. Kieran Catholic School - ECPv6.15.17.1//NONSGML v1.0//EN
CALSCALE:GREGORIAN
METHOD:PUBLISH
X-WR-CALNAME:St. Kieran Catholic School
X-ORIGINAL-URL:https://www.saintkierancatholicschool.org
X-WR-CALDESC:Events for St. Kieran Catholic School
REFRESH-INTERVAL;VALUE=DURATION:PT1H
X-Robots-Tag:noindex
X-PUBLISHED-TTL:PT1H
BEGIN:VTIMEZONE
TZID:America/Los_Angeles
BEGIN:DAYLIGHT
TZOFFSETFROM:-0800
TZOFFSETTO:-0700
TZNAME:PDT
DTSTART:20240310T100000
END:DAYLIGHT
BEGIN:STANDARD
TZOFFSETFROM:-0700
TZOFFSETTO:-0800
TZNAME:PST
DTSTART:20241103T090000
END:STANDARD
BEGIN:DAYLIGHT
TZOFFSETFROM:-0800
TZOFFSETTO:-0700
TZNAME:PDT
DTSTART:20250309T100000
END:DAYLIGHT
BEGIN:STANDARD
TZOFFSETFROM:-0700
TZOFFSETTO:-0800
TZNAME:PST
DTSTART:20251102T090000
END:STANDARD
BEGIN:DAYLIGHT
TZOFFSETFROM:-0800
TZOFFSETTO:-0700
TZNAME:PDT
DTSTART:20260308T100000
END:DAYLIGHT
BEGIN:STANDARD
TZOFFSETFROM:-0700
TZOFFSETTO:-0800
TZNAME:PST
DTSTART:20261101T090000
END:STANDARD
END:VTIMEZONE
BEGIN:VEVENT
DTSTART;VALUE=DATE:20250905
DTEND;VALUE=DATE:20250906
DTSTAMP:20260422T134907
CREATED:20250814T212007Z
LAST-MODIFIED:20250814T212007Z
UID:10000639-1757030400-1757116799@www.saintkierancatholicschool.org
SUMMARY:Student Council Officer Waivers Due
DESCRIPTION:
URL:https://www.saintkierancatholicschool.org/event/student-council-officer-waivers-due
END:VEVENT
BEGIN:VEVENT
DTSTART;VALUE=DATE:20250905
DTEND;VALUE=DATE:20250906
DTSTAMP:20260422T134907
CREATED:20250814T212255Z
LAST-MODIFIED:20250814T212255Z
UID:10000640-1757030400-1757116799@www.saintkierancatholicschool.org
SUMMARY:Speeches Due
DESCRIPTION:
URL:https://www.saintkierancatholicschool.org/event/speeches-due
END:VEVENT
BEGIN:VEVENT
DTSTART;TZID=America/Los_Angeles:20250905T100000
DTEND;TZID=America/Los_Angeles:20250905T100000
DTSTAMP:20260422T134907
CREATED:20250621T005548Z
LAST-MODIFIED:20250814T211810Z
UID:10000465-1757066400-1757066400@www.saintkierancatholicschool.org
SUMMARY:Adoration and Benediction
DESCRIPTION:
URL:https://www.saintkierancatholicschool.org/event/adoration-and-benediction-7
END:VEVENT
END:VCALENDAR