BEGIN:VCALENDAR
VERSION:2.0
PRODID:-//St. Kieran Catholic School - ECPv6.15.17.1//NONSGML v1.0//EN
CALSCALE:GREGORIAN
METHOD:PUBLISH
X-WR-CALNAME:St. Kieran Catholic School
X-ORIGINAL-URL:https://www.saintkierancatholicschool.org
X-WR-CALDESC:Events for St. Kieran Catholic School
REFRESH-INTERVAL;VALUE=DURATION:PT1H
X-Robots-Tag:noindex
X-PUBLISHED-TTL:PT1H
BEGIN:VTIMEZONE
TZID:America/Los_Angeles
BEGIN:DAYLIGHT
TZOFFSETFROM:-0800
TZOFFSETTO:-0700
TZNAME:PDT
DTSTART:20240310T100000
END:DAYLIGHT
BEGIN:STANDARD
TZOFFSETFROM:-0700
TZOFFSETTO:-0800
TZNAME:PST
DTSTART:20241103T090000
END:STANDARD
BEGIN:DAYLIGHT
TZOFFSETFROM:-0800
TZOFFSETTO:-0700
TZNAME:PDT
DTSTART:20250309T100000
END:DAYLIGHT
BEGIN:STANDARD
TZOFFSETFROM:-0700
TZOFFSETTO:-0800
TZNAME:PST
DTSTART:20251102T090000
END:STANDARD
BEGIN:DAYLIGHT
TZOFFSETFROM:-0800
TZOFFSETTO:-0700
TZNAME:PDT
DTSTART:20260308T100000
END:DAYLIGHT
BEGIN:STANDARD
TZOFFSETFROM:-0700
TZOFFSETTO:-0800
TZNAME:PST
DTSTART:20261101T090000
END:STANDARD
END:VTIMEZONE
BEGIN:VEVENT
DTSTART;VALUE=DATE:20250908
DTEND;VALUE=DATE:20250909
DTSTAMP:20260422T234249
CREATED:20250814T212938Z
LAST-MODIFIED:20250814T212938Z
UID:10000706-1757289600-1757375999@www.saintkierancatholicschool.org
SUMMARY:Testing Window through 9/29
DESCRIPTION:
URL:https://www.saintkierancatholicschool.org/event/testing-window-through-9-29
END:VEVENT
BEGIN:VEVENT
DTSTART;VALUE=DATE:20250908
DTEND;VALUE=DATE:20250913
DTSTAMP:20260422T234249
CREATED:20250621T011217Z
LAST-MODIFIED:20250621T011217Z
UID:10000467-1757289600-1757721599@www.saintkierancatholicschool.org
SUMMARY:Student Council Campaign Week
DESCRIPTION:
URL:https://www.saintkierancatholicschool.org/event/student-council-campaign-week
END:VEVENT
BEGIN:VEVENT
DTSTART;TZID=America/Los_Angeles:20250908T081500
DTEND;TZID=America/Los_Angeles:20250908T081500
DTSTAMP:20260422T234249
CREATED:20250815T153709Z
LAST-MODIFIED:20250815T153709Z
UID:10000804-1757319300-1757319300@www.saintkierancatholicschool.org
SUMMARY:Morning Assembly
DESCRIPTION:
URL:https://www.saintkierancatholicschool.org/event/morning-assembly-33
END:VEVENT
BEGIN:VEVENT
DTSTART;TZID=America/Los_Angeles:20250908T145000
DTEND;TZID=America/Los_Angeles:20250908T145000
DTSTAMP:20260422T234249
CREATED:20250821T213910Z
LAST-MODIFIED:20250821T213910Z
UID:10000899-1757343000-1757343000@www.saintkierancatholicschool.org
SUMMARY:Chess Club
DESCRIPTION:
URL:https://www.saintkierancatholicschool.org/event/chess-club-4
END:VEVENT
END:VCALENDAR