BEGIN:VCALENDAR
VERSION:2.0
PRODID:-//St. Kieran Catholic School - ECPv6.15.17.1//NONSGML v1.0//EN
CALSCALE:GREGORIAN
METHOD:PUBLISH
X-ORIGINAL-URL:https://www.saintkierancatholicschool.org
X-WR-CALDESC:Events for St. Kieran Catholic School
REFRESH-INTERVAL;VALUE=DURATION:PT1H
X-Robots-Tag:noindex
X-PUBLISHED-TTL:PT1H
BEGIN:VTIMEZONE
TZID:America/Los_Angeles
BEGIN:DAYLIGHT
TZOFFSETFROM:-0800
TZOFFSETTO:-0700
TZNAME:PDT
DTSTART:20240310T100000
END:DAYLIGHT
BEGIN:STANDARD
TZOFFSETFROM:-0700
TZOFFSETTO:-0800
TZNAME:PST
DTSTART:20241103T090000
END:STANDARD
BEGIN:DAYLIGHT
TZOFFSETFROM:-0800
TZOFFSETTO:-0700
TZNAME:PDT
DTSTART:20250309T100000
END:DAYLIGHT
BEGIN:STANDARD
TZOFFSETFROM:-0700
TZOFFSETTO:-0800
TZNAME:PST
DTSTART:20251102T090000
END:STANDARD
BEGIN:DAYLIGHT
TZOFFSETFROM:-0800
TZOFFSETTO:-0700
TZNAME:PDT
DTSTART:20260308T100000
END:DAYLIGHT
BEGIN:STANDARD
TZOFFSETFROM:-0700
TZOFFSETTO:-0800
TZNAME:PST
DTSTART:20261101T090000
END:STANDARD
END:VTIMEZONE
BEGIN:VEVENT
DTSTART;VALUE=DATE:20250908
DTEND;VALUE=DATE:20250913
DTSTAMP:20260422T134919
CREATED:20250621T011217Z
LAST-MODIFIED:20250621T011217Z
UID:10000467-1757289600-1757721599@www.saintkierancatholicschool.org
SUMMARY:Student Council Campaign Week
DESCRIPTION:
URL:https://www.saintkierancatholicschool.org/event/student-council-campaign-week
END:VEVENT
BEGIN:VEVENT
DTSTART;TZID=America/Los_Angeles:20250910T083000
DTEND;TZID=America/Los_Angeles:20250910T083000
DTSTAMP:20260422T134919
CREATED:20250815T162611Z
LAST-MODIFIED:20250815T162611Z
UID:10000812-1757493000-1757493000@www.saintkierancatholicschool.org
SUMMARY:School Mass
DESCRIPTION:
URL:https://www.saintkierancatholicschool.org/event/school-mass-3
END:VEVENT
BEGIN:VEVENT
DTSTART;TZID=America/Los_Angeles:20250910T093000
DTEND;TZID=America/Los_Angeles:20250910T093000
DTSTAMP:20260422T134919
CREATED:20250814T213212Z
LAST-MODIFIED:20250814T213212Z
UID:10000707-1757496600-1757496600@www.saintkierancatholicschool.org
SUMMARY:Student Council Speeches
DESCRIPTION:
URL:https://www.saintkierancatholicschool.org/event/student-council-speeches
LOCATION:Hall
END:VEVENT
BEGIN:VEVENT
DTSTART;TZID=America/Los_Angeles:20250910T130000
DTEND;TZID=America/Los_Angeles:20250910T130000
DTSTAMP:20260422T134919
CREATED:20250815T152022Z
LAST-MODIFIED:20250815T152022Z
UID:10000794-1757509200-1757509200@www.saintkierancatholicschool.org
SUMMARY:Early Dismissal
DESCRIPTION:
URL:https://www.saintkierancatholicschool.org/event/early-dismissal-44
END:VEVENT
END:VCALENDAR