BEGIN:VCALENDAR
VERSION:2.0
PRODID:-//St. Kieran Catholic School - ECPv6.15.17.1//NONSGML v1.0//EN
CALSCALE:GREGORIAN
METHOD:PUBLISH
X-WR-CALNAME:St. Kieran Catholic School
X-ORIGINAL-URL:https://www.saintkierancatholicschool.org
X-WR-CALDESC:Events for St. Kieran Catholic School
REFRESH-INTERVAL;VALUE=DURATION:PT1H
X-Robots-Tag:noindex
X-PUBLISHED-TTL:PT1H
BEGIN:VTIMEZONE
TZID:America/Los_Angeles
BEGIN:DAYLIGHT
TZOFFSETFROM:-0800
TZOFFSETTO:-0700
TZNAME:PDT
DTSTART:20240310T100000
END:DAYLIGHT
BEGIN:STANDARD
TZOFFSETFROM:-0700
TZOFFSETTO:-0800
TZNAME:PST
DTSTART:20241103T090000
END:STANDARD
BEGIN:DAYLIGHT
TZOFFSETFROM:-0800
TZOFFSETTO:-0700
TZNAME:PDT
DTSTART:20250309T100000
END:DAYLIGHT
BEGIN:STANDARD
TZOFFSETFROM:-0700
TZOFFSETTO:-0800
TZNAME:PST
DTSTART:20251102T090000
END:STANDARD
BEGIN:DAYLIGHT
TZOFFSETFROM:-0800
TZOFFSETTO:-0700
TZNAME:PDT
DTSTART:20260308T100000
END:DAYLIGHT
BEGIN:STANDARD
TZOFFSETFROM:-0700
TZOFFSETTO:-0800
TZNAME:PST
DTSTART:20261101T090000
END:STANDARD
END:VTIMEZONE
BEGIN:VEVENT
DTSTART;VALUE=DATE:20250908
DTEND;VALUE=DATE:20250913
DTSTAMP:20260422T152134
CREATED:20250621T011217Z
LAST-MODIFIED:20250621T011217Z
UID:10000467-1757289600-1757721599@www.saintkierancatholicschool.org
SUMMARY:Student Council Campaign Week
DESCRIPTION:
URL:https://www.saintkierancatholicschool.org/event/student-council-campaign-week
END:VEVENT
BEGIN:VEVENT
DTSTART;VALUE=DATE:20250911
DTEND;VALUE=DATE:20250912
DTSTAMP:20260422T152134
CREATED:20250904T142242Z
LAST-MODIFIED:20250904T142242Z
UID:10000905-1757548800-1757635199@www.saintkierancatholicschool.org
SUMMARY:PE - All Grades
DESCRIPTION:
URL:https://www.saintkierancatholicschool.org/event/pe-all-grades-52
END:VEVENT
BEGIN:VEVENT
DTSTART;TZID=America/Los_Angeles:20250911T180000
DTEND;TZID=America/Los_Angeles:20250911T180000
DTSTAMP:20260422T152134
CREATED:20250826T185441Z
LAST-MODIFIED:20250826T185441Z
UID:10000903-1757613600-1757613600@www.saintkierancatholicschool.org
SUMMARY:PTG Meeting
DESCRIPTION:
URL:https://www.saintkierancatholicschool.org/event/ptg-meeting-13
END:VEVENT
END:VCALENDAR