BEGIN:VCALENDAR
VERSION:2.0
PRODID:-//St. Kieran Catholic School - ECPv6.15.17.1//NONSGML v1.0//EN
CALSCALE:GREGORIAN
METHOD:PUBLISH
X-WR-CALNAME:St. Kieran Catholic School
X-ORIGINAL-URL:https://www.saintkierancatholicschool.org
X-WR-CALDESC:Events for St. Kieran Catholic School
REFRESH-INTERVAL;VALUE=DURATION:PT1H
X-Robots-Tag:noindex
X-PUBLISHED-TTL:PT1H
BEGIN:VTIMEZONE
TZID:America/Los_Angeles
BEGIN:DAYLIGHT
TZOFFSETFROM:-0800
TZOFFSETTO:-0700
TZNAME:PDT
DTSTART:20240310T100000
END:DAYLIGHT
BEGIN:STANDARD
TZOFFSETFROM:-0700
TZOFFSETTO:-0800
TZNAME:PST
DTSTART:20241103T090000
END:STANDARD
BEGIN:DAYLIGHT
TZOFFSETFROM:-0800
TZOFFSETTO:-0700
TZNAME:PDT
DTSTART:20250309T100000
END:DAYLIGHT
BEGIN:STANDARD
TZOFFSETFROM:-0700
TZOFFSETTO:-0800
TZNAME:PST
DTSTART:20251102T090000
END:STANDARD
BEGIN:DAYLIGHT
TZOFFSETFROM:-0800
TZOFFSETTO:-0700
TZNAME:PDT
DTSTART:20260308T100000
END:DAYLIGHT
BEGIN:STANDARD
TZOFFSETFROM:-0700
TZOFFSETTO:-0800
TZNAME:PST
DTSTART:20261101T090000
END:STANDARD
END:VTIMEZONE
BEGIN:VEVENT
DTSTART;VALUE=DATE:20251008
DTEND;VALUE=DATE:20251009
DTSTAMP:20260423T010938
CREATED:20251001T163800Z
LAST-MODIFIED:20251001T163800Z
UID:10001181-1759881600-1759967999@www.saintkierancatholicschool.org
SUMMARY:3rd & 4th Grade Field Trip
DESCRIPTION:
URL:https://www.saintkierancatholicschool.org/event/3rd-4th-grade-field-trip-2
END:VEVENT
BEGIN:VEVENT
DTSTART;TZID=America/Los_Angeles:20251008T083000
DTEND;TZID=America/Los_Angeles:20251008T083000
DTSTAMP:20260423T010938
CREATED:20250815T163022Z
LAST-MODIFIED:20250815T163022Z
UID:10000815-1759912200-1759912200@www.saintkierancatholicschool.org
SUMMARY:School Mass
DESCRIPTION:
URL:https://www.saintkierancatholicschool.org/event/school-mass-7
END:VEVENT
BEGIN:VEVENT
DTSTART;TZID=America/Los_Angeles:20251008T130000
DTEND;TZID=America/Los_Angeles:20251008T130000
DTSTAMP:20260423T010938
CREATED:20250815T152821Z
LAST-MODIFIED:20250815T152821Z
UID:10000799-1759928400-1759928400@www.saintkierancatholicschool.org
SUMMARY:Early Dismissal
DESCRIPTION:
URL:https://www.saintkierancatholicschool.org/event/early-dismissal-48
END:VEVENT
END:VCALENDAR