BEGIN:VCALENDAR
VERSION:2.0
PRODID:-//St. Kieran Catholic School - ECPv6.15.17.1//NONSGML v1.0//EN
CALSCALE:GREGORIAN
METHOD:PUBLISH
X-WR-CALNAME:St. Kieran Catholic School
X-ORIGINAL-URL:https://www.saintkierancatholicschool.org
X-WR-CALDESC:Events for St. Kieran Catholic School
REFRESH-INTERVAL;VALUE=DURATION:PT1H
X-Robots-Tag:noindex
X-PUBLISHED-TTL:PT1H
BEGIN:VTIMEZONE
TZID:America/Los_Angeles
BEGIN:DAYLIGHT
TZOFFSETFROM:-0800
TZOFFSETTO:-0700
TZNAME:PDT
DTSTART:20240310T100000
END:DAYLIGHT
BEGIN:STANDARD
TZOFFSETFROM:-0700
TZOFFSETTO:-0800
TZNAME:PST
DTSTART:20241103T090000
END:STANDARD
BEGIN:DAYLIGHT
TZOFFSETFROM:-0800
TZOFFSETTO:-0700
TZNAME:PDT
DTSTART:20250309T100000
END:DAYLIGHT
BEGIN:STANDARD
TZOFFSETFROM:-0700
TZOFFSETTO:-0800
TZNAME:PST
DTSTART:20251102T090000
END:STANDARD
BEGIN:DAYLIGHT
TZOFFSETFROM:-0800
TZOFFSETTO:-0700
TZNAME:PDT
DTSTART:20260308T100000
END:DAYLIGHT
BEGIN:STANDARD
TZOFFSETFROM:-0700
TZOFFSETTO:-0800
TZNAME:PST
DTSTART:20261101T090000
END:STANDARD
END:VTIMEZONE
BEGIN:VEVENT
DTSTART;VALUE=DATE:20251020
DTEND;VALUE=DATE:20251021
DTSTAMP:20260422T234702
CREATED:20250815T164903Z
LAST-MODIFIED:20250815T164903Z
UID:10000825-1760918400-1761004799@www.saintkierancatholicschool.org
SUMMARY:Happy Birthday Fr. Ben!
DESCRIPTION:
URL:https://www.saintkierancatholicschool.org/event/happy-birthday-fr-ben
END:VEVENT
BEGIN:VEVENT
DTSTART;VALUE=DATE:20251020
DTEND;VALUE=DATE:20251021
DTSTAMP:20260422T234702
CREATED:20250815T165040Z
LAST-MODIFIED:20250815T165040Z
UID:10000826-1760918400-1761004799@www.saintkierancatholicschool.org
SUMMARY:Start of Quarter 2
DESCRIPTION:
URL:https://www.saintkierancatholicschool.org/event/start-of-quarter-2-2
END:VEVENT
BEGIN:VEVENT
DTSTART;VALUE=DATE:20251020
DTEND;VALUE=DATE:20251021
DTSTAMP:20260422T234702
CREATED:20250815T165155Z
LAST-MODIFIED:20250815T165155Z
UID:10000827-1760918400-1761004799@www.saintkierancatholicschool.org
SUMMARY:Rosary
DESCRIPTION:
URL:https://www.saintkierancatholicschool.org/event/rosary
END:VEVENT
BEGIN:VEVENT
DTSTART;TZID=America/Los_Angeles:20251020T081500
DTEND;TZID=America/Los_Angeles:20251020T081500
DTSTAMP:20260422T234702
CREATED:20250815T154500Z
LAST-MODIFIED:20250815T154500Z
UID:10000809-1760948100-1760948100@www.saintkierancatholicschool.org
SUMMARY:Morning Assembly
DESCRIPTION:
URL:https://www.saintkierancatholicschool.org/event/morning-assembly-38
END:VEVENT
BEGIN:VEVENT
DTSTART;TZID=America/Los_Angeles:20251020T145000
DTEND;TZID=America/Los_Angeles:20251020T145000
DTSTAMP:20260422T234702
CREATED:20250821T212806Z
LAST-MODIFIED:20250821T213207Z
UID:10000848-1760971800-1760971800@www.saintkierancatholicschool.org
SUMMARY:Chess Club
DESCRIPTION:
URL:https://www.saintkierancatholicschool.org/event/chess-club-3/2025-10-20
END:VEVENT
END:VCALENDAR