BEGIN:VCALENDAR
VERSION:2.0
PRODID:-//St. Kieran Catholic School - ECPv6.15.17.1//NONSGML v1.0//EN
CALSCALE:GREGORIAN
METHOD:PUBLISH
X-WR-CALNAME:St. Kieran Catholic School
X-ORIGINAL-URL:https://www.saintkierancatholicschool.org
X-WR-CALDESC:Events for St. Kieran Catholic School
REFRESH-INTERVAL;VALUE=DURATION:PT1H
X-Robots-Tag:noindex
X-PUBLISHED-TTL:PT1H
BEGIN:VTIMEZONE
TZID:America/Los_Angeles
BEGIN:DAYLIGHT
TZOFFSETFROM:-0800
TZOFFSETTO:-0700
TZNAME:PDT
DTSTART:20240310T100000
END:DAYLIGHT
BEGIN:STANDARD
TZOFFSETFROM:-0700
TZOFFSETTO:-0800
TZNAME:PST
DTSTART:20241103T090000
END:STANDARD
BEGIN:DAYLIGHT
TZOFFSETFROM:-0800
TZOFFSETTO:-0700
TZNAME:PDT
DTSTART:20250309T100000
END:DAYLIGHT
BEGIN:STANDARD
TZOFFSETFROM:-0700
TZOFFSETTO:-0800
TZNAME:PST
DTSTART:20251102T090000
END:STANDARD
BEGIN:DAYLIGHT
TZOFFSETFROM:-0800
TZOFFSETTO:-0700
TZNAME:PDT
DTSTART:20260308T100000
END:DAYLIGHT
BEGIN:STANDARD
TZOFFSETFROM:-0700
TZOFFSETTO:-0800
TZNAME:PST
DTSTART:20261101T090000
END:STANDARD
END:VTIMEZONE
BEGIN:VEVENT
DTSTART;VALUE=DATE:20251023
DTEND;VALUE=DATE:20251024
DTSTAMP:20260423T041122
CREATED:20250624T215242Z
LAST-MODIFIED:20250815T165541Z
UID:10000478-1761177600-1761263999@www.saintkierancatholicschool.org
SUMMARY:Minimum Day - Noon Dismissal
DESCRIPTION:
URL:https://www.saintkierancatholicschool.org/event/minimum-day-4
END:VEVENT
BEGIN:VEVENT
DTSTART;VALUE=DATE:20251023
DTEND;VALUE=DATE:20251024
DTSTAMP:20260423T041122
CREATED:20250815T165719Z
LAST-MODIFIED:20250815T165719Z
UID:10000829-1761177600-1761263999@www.saintkierancatholicschool.org
SUMMARY:Parent/Teacher Conferences
DESCRIPTION:
URL:https://www.saintkierancatholicschool.org/event/parent-teacher-conferences-5
END:VEVENT
BEGIN:VEVENT
DTSTART;VALUE=DATE:20251023
DTEND;VALUE=DATE:20251024
DTSTAMP:20260423T041122
CREATED:20250815T165843Z
LAST-MODIFIED:20250815T165843Z
UID:10000830-1761177600-1761263999@www.saintkierancatholicschool.org
SUMMARY:Report Cards Quarter 1
DESCRIPTION:
URL:https://www.saintkierancatholicschool.org/event/report-cards-quarter-1
END:VEVENT
BEGIN:VEVENT
DTSTART;VALUE=DATE:20251023
DTEND;VALUE=DATE:20251024
DTSTAMP:20260423T041122
CREATED:20251015T180332Z
LAST-MODIFIED:20251015T180332Z
UID:10001186-1761177600-1761263999@www.saintkierancatholicschool.org
SUMMARY:PE - All Grades
DESCRIPTION:
URL:https://www.saintkierancatholicschool.org/event/pe-all-grades-65
END:VEVENT
END:VCALENDAR