BEGIN:VCALENDAR
VERSION:2.0
PRODID:-//St. Kieran Catholic School - ECPv6.15.17.1//NONSGML v1.0//EN
CALSCALE:GREGORIAN
METHOD:PUBLISH
X-WR-CALNAME:St. Kieran Catholic School
X-ORIGINAL-URL:https://www.saintkierancatholicschool.org
X-WR-CALDESC:Events for St. Kieran Catholic School
REFRESH-INTERVAL;VALUE=DURATION:PT1H
X-Robots-Tag:noindex
X-PUBLISHED-TTL:PT1H
BEGIN:VTIMEZONE
TZID:America/Los_Angeles
BEGIN:DAYLIGHT
TZOFFSETFROM:-0800
TZOFFSETTO:-0700
TZNAME:PDT
DTSTART:20240310T100000
END:DAYLIGHT
BEGIN:STANDARD
TZOFFSETFROM:-0700
TZOFFSETTO:-0800
TZNAME:PST
DTSTART:20241103T090000
END:STANDARD
BEGIN:DAYLIGHT
TZOFFSETFROM:-0800
TZOFFSETTO:-0700
TZNAME:PDT
DTSTART:20250309T100000
END:DAYLIGHT
BEGIN:STANDARD
TZOFFSETFROM:-0700
TZOFFSETTO:-0800
TZNAME:PST
DTSTART:20251102T090000
END:STANDARD
BEGIN:DAYLIGHT
TZOFFSETFROM:-0800
TZOFFSETTO:-0700
TZNAME:PDT
DTSTART:20260308T100000
END:DAYLIGHT
BEGIN:STANDARD
TZOFFSETFROM:-0700
TZOFFSETTO:-0800
TZNAME:PST
DTSTART:20261101T090000
END:STANDARD
END:VTIMEZONE
BEGIN:VEVENT
DTSTART;VALUE=DATE:20251027
DTEND;VALUE=DATE:20251028
DTSTAMP:20260425T112806
CREATED:20250815T170941Z
LAST-MODIFIED:20250815T170941Z
UID:10000835-1761523200-1761609599@www.saintkierancatholicschool.org
SUMMARY:SLE Awards
DESCRIPTION:
URL:https://www.saintkierancatholicschool.org/event/sle-awards
END:VEVENT
BEGIN:VEVENT
DTSTART;VALUE=DATE:20251027
DTEND;VALUE=DATE:20251028
DTSTAMP:20260425T112806
CREATED:20251022T162322Z
LAST-MODIFIED:20251022T162322Z
UID:10001188-1761523200-1761609599@www.saintkierancatholicschool.org
SUMMARY:T-Shirt Order Forms Due
DESCRIPTION:
URL:https://www.saintkierancatholicschool.org/event/t-shirt-order-forms-due
END:VEVENT
BEGIN:VEVENT
DTSTART;TZID=America/Los_Angeles:20251027T081500
DTEND;TZID=America/Los_Angeles:20251027T081500
DTSTAMP:20260425T112806
CREATED:20250815T154931Z
LAST-MODIFIED:20250815T162237Z
UID:10000811-1761552900-1761552900@www.saintkierancatholicschool.org
SUMMARY:Morning Assembly
DESCRIPTION:
URL:https://www.saintkierancatholicschool.org/event/morning-assembly-39
END:VEVENT
BEGIN:VEVENT
DTSTART;TZID=America/Los_Angeles:20251027T145000
DTEND;TZID=America/Los_Angeles:20251027T145000
DTSTAMP:20260425T112806
CREATED:20250821T212806Z
LAST-MODIFIED:20250821T213207Z
UID:10000849-1761576600-1761576600@www.saintkierancatholicschool.org
SUMMARY:Chess Club
DESCRIPTION:
URL:https://www.saintkierancatholicschool.org/event/chess-club-3/2025-10-27
END:VEVENT
END:VCALENDAR