BEGIN:VCALENDAR
VERSION:2.0
PRODID:-//St. Kieran Catholic School - ECPv6.15.17.1//NONSGML v1.0//EN
CALSCALE:GREGORIAN
METHOD:PUBLISH
X-ORIGINAL-URL:https://www.saintkierancatholicschool.org
X-WR-CALDESC:Events for St. Kieran Catholic School
REFRESH-INTERVAL;VALUE=DURATION:PT1H
X-Robots-Tag:noindex
X-PUBLISHED-TTL:PT1H
BEGIN:VTIMEZONE
TZID:America/Los_Angeles
BEGIN:DAYLIGHT
TZOFFSETFROM:-0800
TZOFFSETTO:-0700
TZNAME:PDT
DTSTART:20240310T100000
END:DAYLIGHT
BEGIN:STANDARD
TZOFFSETFROM:-0700
TZOFFSETTO:-0800
TZNAME:PST
DTSTART:20241103T090000
END:STANDARD
BEGIN:DAYLIGHT
TZOFFSETFROM:-0800
TZOFFSETTO:-0700
TZNAME:PDT
DTSTART:20250309T100000
END:DAYLIGHT
BEGIN:STANDARD
TZOFFSETFROM:-0700
TZOFFSETTO:-0800
TZNAME:PST
DTSTART:20251102T090000
END:STANDARD
BEGIN:DAYLIGHT
TZOFFSETFROM:-0800
TZOFFSETTO:-0700
TZNAME:PDT
DTSTART:20260308T100000
END:DAYLIGHT
BEGIN:STANDARD
TZOFFSETFROM:-0700
TZOFFSETTO:-0800
TZNAME:PST
DTSTART:20261101T090000
END:STANDARD
END:VTIMEZONE
BEGIN:VEVENT
DTSTART;VALUE=DATE:20251029
DTEND;VALUE=DATE:20251030
DTSTAMP:20260422T183852
CREATED:20250815T171122Z
LAST-MODIFIED:20250815T171122Z
UID:10000836-1761696000-1761782399@www.saintkierancatholicschool.org
SUMMARY:Makeup Picture Day
DESCRIPTION:
URL:https://www.saintkierancatholicschool.org/event/makeup-picture-day
END:VEVENT
BEGIN:VEVENT
DTSTART;TZID=America/Los_Angeles:20251029T083000
DTEND;TZID=America/Los_Angeles:20251029T083000
DTSTAMP:20260422T183852
CREATED:20250815T163443Z
LAST-MODIFIED:20250815T163443Z
UID:10000818-1761726600-1761726600@www.saintkierancatholicschool.org
SUMMARY:School Mass
DESCRIPTION:
URL:https://www.saintkierancatholicschool.org/event/school-mass-10
END:VEVENT
BEGIN:VEVENT
DTSTART;TZID=America/Los_Angeles:20251029T130000
DTEND;TZID=America/Los_Angeles:20251029T130000
DTSTAMP:20260422T183852
CREATED:20250815T153357Z
LAST-MODIFIED:20250815T153357Z
UID:10000803-1761742800-1761742800@www.saintkierancatholicschool.org
SUMMARY:Early Dismissal
DESCRIPTION:
URL:https://www.saintkierancatholicschool.org/event/early-dismissal-51
END:VEVENT
END:VCALENDAR