BEGIN:VCALENDAR
VERSION:2.0
PRODID:-//St. Kieran Catholic School - ECPv6.15.17.1//NONSGML v1.0//EN
CALSCALE:GREGORIAN
METHOD:PUBLISH
X-WR-CALNAME:St. Kieran Catholic School
X-ORIGINAL-URL:https://www.saintkierancatholicschool.org
X-WR-CALDESC:Events for St. Kieran Catholic School
REFRESH-INTERVAL;VALUE=DURATION:PT1H
X-Robots-Tag:noindex
X-PUBLISHED-TTL:PT1H
BEGIN:VTIMEZONE
TZID:America/Los_Angeles
BEGIN:DAYLIGHT
TZOFFSETFROM:-0800
TZOFFSETTO:-0700
TZNAME:PDT
DTSTART:20240310T100000
END:DAYLIGHT
BEGIN:STANDARD
TZOFFSETFROM:-0700
TZOFFSETTO:-0800
TZNAME:PST
DTSTART:20241103T090000
END:STANDARD
BEGIN:DAYLIGHT
TZOFFSETFROM:-0800
TZOFFSETTO:-0700
TZNAME:PDT
DTSTART:20250309T100000
END:DAYLIGHT
BEGIN:STANDARD
TZOFFSETFROM:-0700
TZOFFSETTO:-0800
TZNAME:PST
DTSTART:20251102T090000
END:STANDARD
BEGIN:DAYLIGHT
TZOFFSETFROM:-0800
TZOFFSETTO:-0700
TZNAME:PDT
DTSTART:20260308T100000
END:DAYLIGHT
BEGIN:STANDARD
TZOFFSETFROM:-0700
TZOFFSETTO:-0800
TZNAME:PST
DTSTART:20261101T090000
END:STANDARD
END:VTIMEZONE
BEGIN:VEVENT
DTSTART;VALUE=DATE:20251114
DTEND;VALUE=DATE:20251115
DTSTAMP:20260422T220007
CREATED:20250915T171050Z
LAST-MODIFIED:20250915T171050Z
UID:10000928-1763078400-1763164799@www.saintkierancatholicschool.org
SUMMARY:End of Progress Reporting Period
DESCRIPTION:
URL:https://www.saintkierancatholicschool.org/event/end-of-progress-reporting-period-2
END:VEVENT
BEGIN:VEVENT
DTSTART;VALUE=DATE:20251114
DTEND;VALUE=DATE:20251115
DTSTAMP:20260422T220007
CREATED:20251105T204748Z
LAST-MODIFIED:20251105T204748Z
UID:10001200-1763078400-1763164799@www.saintkierancatholicschool.org
SUMMARY:Jogathon Song Requests Due
DESCRIPTION:
URL:https://www.saintkierancatholicschool.org/event/jogathon-song-requests-due
END:VEVENT
BEGIN:VEVENT
DTSTART;TZID=America/Los_Angeles:20251114T180000
DTEND;TZID=America/Los_Angeles:20251114T200000
DTSTAMP:20260422T220007
CREATED:20251105T205048Z
LAST-MODIFIED:20251105T205048Z
UID:10001201-1763143200-1763150400@www.saintkierancatholicschool.org
SUMMARY:Fall Sports Party
DESCRIPTION:
URL:https://www.saintkierancatholicschool.org/event/fall-sports-party
LOCATION:Hall
END:VEVENT
END:VCALENDAR