BEGIN:VCALENDAR
VERSION:2.0
PRODID:-//St. Kieran Catholic School - ECPv6.15.17.1//NONSGML v1.0//EN
CALSCALE:GREGORIAN
METHOD:PUBLISH
X-ORIGINAL-URL:https://www.saintkierancatholicschool.org
X-WR-CALDESC:Events for St. Kieran Catholic School
REFRESH-INTERVAL;VALUE=DURATION:PT1H
X-Robots-Tag:noindex
X-PUBLISHED-TTL:PT1H
BEGIN:VTIMEZONE
TZID:America/Los_Angeles
BEGIN:DAYLIGHT
TZOFFSETFROM:-0800
TZOFFSETTO:-0700
TZNAME:PDT
DTSTART:20240310T100000
END:DAYLIGHT
BEGIN:STANDARD
TZOFFSETFROM:-0700
TZOFFSETTO:-0800
TZNAME:PST
DTSTART:20241103T090000
END:STANDARD
BEGIN:DAYLIGHT
TZOFFSETFROM:-0800
TZOFFSETTO:-0700
TZNAME:PDT
DTSTART:20250309T100000
END:DAYLIGHT
BEGIN:STANDARD
TZOFFSETFROM:-0700
TZOFFSETTO:-0800
TZNAME:PST
DTSTART:20251102T090000
END:STANDARD
BEGIN:DAYLIGHT
TZOFFSETFROM:-0800
TZOFFSETTO:-0700
TZNAME:PDT
DTSTART:20260308T100000
END:DAYLIGHT
BEGIN:STANDARD
TZOFFSETFROM:-0700
TZOFFSETTO:-0800
TZNAME:PST
DTSTART:20261101T090000
END:STANDARD
END:VTIMEZONE
BEGIN:VEVENT
DTSTART;VALUE=DATE:20251120
DTEND;VALUE=DATE:20251121
DTSTAMP:20260422T234405
CREATED:20250915T171508Z
LAST-MODIFIED:20250915T171508Z
UID:10000932-1763596800-1763683199@www.saintkierancatholicschool.org
SUMMARY:Progress Reports Sent Home
DESCRIPTION:
URL:https://www.saintkierancatholicschool.org/event/progress-reports-sent-home-5
END:VEVENT
BEGIN:VEVENT
DTSTART;VALUE=DATE:20251120
DTEND;VALUE=DATE:20251121
DTSTAMP:20260422T234405
CREATED:20251112T190936Z
LAST-MODIFIED:20251112T190936Z
UID:10001207-1763596800-1763683199@www.saintkierancatholicschool.org
SUMMARY:PE - All Grades
DESCRIPTION:
URL:https://www.saintkierancatholicschool.org/event/pe-all-grades-72
END:VEVENT
BEGIN:VEVENT
DTSTART;TZID=America/Los_Angeles:20251120T141500
DTEND;TZID=America/Los_Angeles:20251120T141500
DTSTAMP:20260422T234405
CREATED:20250915T171558Z
LAST-MODIFIED:20250915T171558Z
UID:10000933-1763648100-1763648100@www.saintkierancatholicschool.org
SUMMARY:Fire Drill
DESCRIPTION:
URL:https://www.saintkierancatholicschool.org/event/fire-drill-6
END:VEVENT
BEGIN:VEVENT
DTSTART;TZID=America/Los_Angeles:20251120T180000
DTEND;TZID=America/Los_Angeles:20251120T180000
DTSTAMP:20260422T234405
CREATED:20250915T171640Z
LAST-MODIFIED:20250915T171640Z
UID:10000934-1763661600-1763661600@www.saintkierancatholicschool.org
SUMMARY:PTG Meeting
DESCRIPTION:
URL:https://www.saintkierancatholicschool.org/event/ptg-meeting-14
END:VEVENT
END:VCALENDAR