BEGIN:VCALENDAR
VERSION:2.0
PRODID:-//St. Kieran Catholic School - ECPv6.15.17.1//NONSGML v1.0//EN
CALSCALE:GREGORIAN
METHOD:PUBLISH
X-WR-CALNAME:St. Kieran Catholic School
X-ORIGINAL-URL:https://www.saintkierancatholicschool.org
X-WR-CALDESC:Events for St. Kieran Catholic School
REFRESH-INTERVAL;VALUE=DURATION:PT1H
X-Robots-Tag:noindex
X-PUBLISHED-TTL:PT1H
BEGIN:VTIMEZONE
TZID:America/Los_Angeles
BEGIN:DAYLIGHT
TZOFFSETFROM:-0800
TZOFFSETTO:-0700
TZNAME:PDT
DTSTART:20240310T100000
END:DAYLIGHT
BEGIN:STANDARD
TZOFFSETFROM:-0700
TZOFFSETTO:-0800
TZNAME:PST
DTSTART:20241103T090000
END:STANDARD
BEGIN:DAYLIGHT
TZOFFSETFROM:-0800
TZOFFSETTO:-0700
TZNAME:PDT
DTSTART:20250309T100000
END:DAYLIGHT
BEGIN:STANDARD
TZOFFSETFROM:-0700
TZOFFSETTO:-0800
TZNAME:PST
DTSTART:20251102T090000
END:STANDARD
BEGIN:DAYLIGHT
TZOFFSETFROM:-0800
TZOFFSETTO:-0700
TZNAME:PDT
DTSTART:20260308T100000
END:DAYLIGHT
BEGIN:STANDARD
TZOFFSETFROM:-0700
TZOFFSETTO:-0800
TZNAME:PST
DTSTART:20261101T090000
END:STANDARD
END:VTIMEZONE
BEGIN:VEVENT
DTSTART;VALUE=DATE:20251205
DTEND;VALUE=DATE:20251206
DTSTAMP:20260422T220010
CREATED:20250915T180006Z
LAST-MODIFIED:20250915T180006Z
UID:10000966-1764892800-1764979199@www.saintkierancatholicschool.org
SUMMARY:Deposit Day
DESCRIPTION:
URL:https://www.saintkierancatholicschool.org/event/deposit-day-20
END:VEVENT
BEGIN:VEVENT
DTSTART;VALUE=DATE:20251205
DTEND;VALUE=DATE:20251206
DTSTAMP:20260422T220010
CREATED:20250915T180045Z
LAST-MODIFIED:20250915T180045Z
UID:10000967-1764892800-1764979199@www.saintkierancatholicschool.org
SUMMARY:Shoes on Desks
DESCRIPTION:
URL:https://www.saintkierancatholicschool.org/event/shoes-on-desks
END:VEVENT
BEGIN:VEVENT
DTSTART;VALUE=DATE:20251205
DTEND;VALUE=DATE:20251206
DTSTAMP:20260422T220010
CREATED:20251105T205725Z
LAST-MODIFIED:20251105T205725Z
UID:10001202-1764892800-1764979199@www.saintkierancatholicschool.org
SUMMARY:Winter Sports Registration Deadline
DESCRIPTION:
URL:https://www.saintkierancatholicschool.org/event/winter-sports-registration-deadline
END:VEVENT
BEGIN:VEVENT
DTSTART;TZID=America/Los_Angeles:20251205T100000
DTEND;TZID=America/Los_Angeles:20251205T100000
DTSTAMP:20260422T220010
CREATED:20250915T175850Z
LAST-MODIFIED:20250915T175850Z
UID:10000965-1764928800-1764928800@www.saintkierancatholicschool.org
SUMMARY:Adoration and Benediction
DESCRIPTION:
URL:https://www.saintkierancatholicschool.org/event/adoration-and-benediction-10
END:VEVENT
END:VCALENDAR