BEGIN:VCALENDAR
VERSION:2.0
PRODID:-//St. Kieran Catholic School - ECPv6.15.17.1//NONSGML v1.0//EN
CALSCALE:GREGORIAN
METHOD:PUBLISH
X-ORIGINAL-URL:https://www.saintkierancatholicschool.org
X-WR-CALDESC:Events for St. Kieran Catholic School
REFRESH-INTERVAL;VALUE=DURATION:PT1H
X-Robots-Tag:noindex
X-PUBLISHED-TTL:PT1H
BEGIN:VTIMEZONE
TZID:America/Los_Angeles
BEGIN:DAYLIGHT
TZOFFSETFROM:-0800
TZOFFSETTO:-0700
TZNAME:PDT
DTSTART:20240310T100000
END:DAYLIGHT
BEGIN:STANDARD
TZOFFSETFROM:-0700
TZOFFSETTO:-0800
TZNAME:PST
DTSTART:20241103T090000
END:STANDARD
BEGIN:DAYLIGHT
TZOFFSETFROM:-0800
TZOFFSETTO:-0700
TZNAME:PDT
DTSTART:20250309T100000
END:DAYLIGHT
BEGIN:STANDARD
TZOFFSETFROM:-0700
TZOFFSETTO:-0800
TZNAME:PST
DTSTART:20251102T090000
END:STANDARD
BEGIN:DAYLIGHT
TZOFFSETFROM:-0800
TZOFFSETTO:-0700
TZNAME:PDT
DTSTART:20260308T100000
END:DAYLIGHT
BEGIN:STANDARD
TZOFFSETFROM:-0700
TZOFFSETTO:-0800
TZNAME:PST
DTSTART:20261101T090000
END:STANDARD
END:VTIMEZONE
BEGIN:VEVENT
DTSTART;TZID=America/Los_Angeles:20251217T083000
DTEND;TZID=America/Los_Angeles:20251217T083000
DTSTAMP:20260423T041202
CREATED:20250915T173523Z
LAST-MODIFIED:20250915T173523Z
UID:10000951-1765960200-1765960200@www.saintkierancatholicschool.org
SUMMARY:School Mass
DESCRIPTION:
URL:https://www.saintkierancatholicschool.org/event/school-mass-14
END:VEVENT
BEGIN:VEVENT
DTSTART;TZID=America/Los_Angeles:20251217T103000
DTEND;TZID=America/Los_Angeles:20251217T113000
DTSTAMP:20260423T041202
CREATED:20250915T174616Z
LAST-MODIFIED:20250915T174616Z
UID:10000957-1765967400-1765971000@www.saintkierancatholicschool.org
SUMMARY:Christmas Program Rehearsal
DESCRIPTION:
URL:https://www.saintkierancatholicschool.org/event/christmas-program-rehearsal-2
END:VEVENT
BEGIN:VEVENT
DTSTART;TZID=America/Los_Angeles:20251217T130000
DTEND;TZID=America/Los_Angeles:20251217T130000
DTSTAMP:20260423T041202
CREATED:20250915T174126Z
LAST-MODIFIED:20250915T174126Z
UID:10000955-1765976400-1765976400@www.saintkierancatholicschool.org
SUMMARY:Dismissal
DESCRIPTION:
URL:https://www.saintkierancatholicschool.org/event/dismissal-3/2025-12-17
END:VEVENT
BEGIN:VEVENT
DTSTART;TZID=America/Los_Angeles:20251217T180000
DTEND;TZID=America/Los_Angeles:20251217T180000
DTSTAMP:20260423T041202
CREATED:20250915T174653Z
LAST-MODIFIED:20250915T174653Z
UID:10000958-1765994400-1765994400@www.saintkierancatholicschool.org
SUMMARY:Christmas Program
DESCRIPTION:
URL:https://www.saintkierancatholicschool.org/event/christmas-program-2
END:VEVENT
END:VCALENDAR