BEGIN:VCALENDAR
VERSION:2.0
PRODID:-//St. Kieran Catholic School - ECPv6.15.17.1//NONSGML v1.0//EN
CALSCALE:GREGORIAN
METHOD:PUBLISH
X-ORIGINAL-URL:https://www.saintkierancatholicschool.org
X-WR-CALDESC:Events for St. Kieran Catholic School
REFRESH-INTERVAL;VALUE=DURATION:PT1H
X-Robots-Tag:noindex
X-PUBLISHED-TTL:PT1H
BEGIN:VTIMEZONE
TZID:America/Los_Angeles
BEGIN:DAYLIGHT
TZOFFSETFROM:-0800
TZOFFSETTO:-0700
TZNAME:PDT
DTSTART:20250309T100000
END:DAYLIGHT
BEGIN:STANDARD
TZOFFSETFROM:-0700
TZOFFSETTO:-0800
TZNAME:PST
DTSTART:20251102T090000
END:STANDARD
BEGIN:DAYLIGHT
TZOFFSETFROM:-0800
TZOFFSETTO:-0700
TZNAME:PDT
DTSTART:20260308T100000
END:DAYLIGHT
BEGIN:STANDARD
TZOFFSETFROM:-0700
TZOFFSETTO:-0800
TZNAME:PST
DTSTART:20261101T090000
END:STANDARD
BEGIN:DAYLIGHT
TZOFFSETFROM:-0800
TZOFFSETTO:-0700
TZNAME:PDT
DTSTART:20270314T100000
END:DAYLIGHT
BEGIN:STANDARD
TZOFFSETFROM:-0700
TZOFFSETTO:-0800
TZNAME:PST
DTSTART:20271107T090000
END:STANDARD
END:VTIMEZONE
BEGIN:VEVENT
DTSTART;VALUE=DATE:20260125
DTEND;VALUE=DATE:20260201
DTSTAMP:20260422T183829
CREATED:20250915T181837Z
LAST-MODIFIED:20250915T181837Z
UID:10000981-1769299200-1769903999@www.saintkierancatholicschool.org
SUMMARY:Catholic Schools Week
DESCRIPTION:
URL:https://www.saintkierancatholicschool.org/event/catholic-schools-week-2
END:VEVENT
BEGIN:VEVENT
DTSTART;VALUE=DATE:20260126
DTEND;VALUE=DATE:20260127
DTSTAMP:20260422T183829
CREATED:20250915T184148Z
LAST-MODIFIED:20250915T184148Z
UID:10000987-1769385600-1769471999@www.saintkierancatholicschool.org
SUMMARY:SLE Awards
DESCRIPTION:
URL:https://www.saintkierancatholicschool.org/event/sle-awards-2
END:VEVENT
BEGIN:VEVENT
DTSTART;TZID=America/Los_Angeles:20260126T081500
DTEND;TZID=America/Los_Angeles:20260126T081500
DTSTAMP:20260422T183829
CREATED:20250915T184115Z
LAST-MODIFIED:20250915T184115Z
UID:10000986-1769415300-1769415300@www.saintkierancatholicschool.org
SUMMARY:Morning Assembly
DESCRIPTION:
URL:https://www.saintkierancatholicschool.org/event/morning-assembly-43/2026-01-26
END:VEVENT
BEGIN:VEVENT
DTSTART;TZID=America/Los_Angeles:20260126T145000
DTEND;TZID=America/Los_Angeles:20260126T145000
DTSTAMP:20260422T183829
CREATED:20251212T131257Z
LAST-MODIFIED:20251212T131815Z
UID:10000862-1769439000-1769439000@www.saintkierancatholicschool.org
SUMMARY:Chess Club
DESCRIPTION:
URL:https://www.saintkierancatholicschool.org/event/chess-club-3-3/2026-01-26
END:VEVENT
END:VCALENDAR