BEGIN:VCALENDAR
VERSION:2.0
PRODID:-//St. Kieran Catholic School - ECPv6.15.17.1//NONSGML v1.0//EN
CALSCALE:GREGORIAN
METHOD:PUBLISH
X-WR-CALNAME:St. Kieran Catholic School
X-ORIGINAL-URL:https://www.saintkierancatholicschool.org
X-WR-CALDESC:Events for St. Kieran Catholic School
REFRESH-INTERVAL;VALUE=DURATION:PT1H
X-Robots-Tag:noindex
X-PUBLISHED-TTL:PT1H
BEGIN:VTIMEZONE
TZID:America/Los_Angeles
BEGIN:DAYLIGHT
TZOFFSETFROM:-0800
TZOFFSETTO:-0700
TZNAME:PDT
DTSTART:20250309T100000
END:DAYLIGHT
BEGIN:STANDARD
TZOFFSETFROM:-0700
TZOFFSETTO:-0800
TZNAME:PST
DTSTART:20251102T090000
END:STANDARD
BEGIN:DAYLIGHT
TZOFFSETFROM:-0800
TZOFFSETTO:-0700
TZNAME:PDT
DTSTART:20260308T100000
END:DAYLIGHT
BEGIN:STANDARD
TZOFFSETFROM:-0700
TZOFFSETTO:-0800
TZNAME:PST
DTSTART:20261101T090000
END:STANDARD
BEGIN:DAYLIGHT
TZOFFSETFROM:-0800
TZOFFSETTO:-0700
TZNAME:PDT
DTSTART:20270314T100000
END:DAYLIGHT
BEGIN:STANDARD
TZOFFSETFROM:-0700
TZOFFSETTO:-0800
TZNAME:PST
DTSTART:20271107T090000
END:STANDARD
END:VTIMEZONE
BEGIN:VEVENT
DTSTART;TZID=America/Los_Angeles:20260304T083000
DTEND;TZID=America/Los_Angeles:20260304T083000
DTSTAMP:20260422T020139
CREATED:20250918T163255Z
LAST-MODIFIED:20250918T163255Z
UID:10001061-1772613000-1772613000@www.saintkierancatholicschool.org
SUMMARY:School Mass
DESCRIPTION:
URL:https://www.saintkierancatholicschool.org/event/school-mass-21
END:VEVENT
BEGIN:VEVENT
DTSTART;TZID=America/Los_Angeles:20260304T130000
DTEND;TZID=America/Los_Angeles:20260304T130000
DTSTAMP:20260422T020139
CREATED:20250918T164128Z
LAST-MODIFIED:20250918T164128Z
UID:10001067-1772629200-1772629200@www.saintkierancatholicschool.org
SUMMARY:Dismissal
DESCRIPTION:
URL:https://www.saintkierancatholicschool.org/event/dismissal-12
END:VEVENT
BEGIN:VEVENT
DTSTART;TZID=America/Los_Angeles:20260304T170000
DTEND;TZID=America/Los_Angeles:20260304T190000
DTSTAMP:20260422T020139
CREATED:20260225T170023Z
LAST-MODIFIED:20260225T170023Z
UID:10001260-1772643600-1772650800@www.saintkierancatholicschool.org
SUMMARY:Middle School Movie Night
DESCRIPTION:
URL:https://www.saintkierancatholicschool.org/event/middle-school-movie-night
END:VEVENT
END:VCALENDAR