BEGIN:VCALENDAR
VERSION:2.0
PRODID:-//St. Kieran Catholic School - ECPv6.15.17.1//NONSGML v1.0//EN
CALSCALE:GREGORIAN
METHOD:PUBLISH
X-WR-CALNAME:St. Kieran Catholic School
X-ORIGINAL-URL:https://www.saintkierancatholicschool.org
X-WR-CALDESC:Events for St. Kieran Catholic School
REFRESH-INTERVAL;VALUE=DURATION:PT1H
X-Robots-Tag:noindex
X-PUBLISHED-TTL:PT1H
BEGIN:VTIMEZONE
TZID:America/Los_Angeles
BEGIN:DAYLIGHT
TZOFFSETFROM:-0800
TZOFFSETTO:-0700
TZNAME:PDT
DTSTART:20250309T100000
END:DAYLIGHT
BEGIN:STANDARD
TZOFFSETFROM:-0700
TZOFFSETTO:-0800
TZNAME:PST
DTSTART:20251102T090000
END:STANDARD
BEGIN:DAYLIGHT
TZOFFSETFROM:-0800
TZOFFSETTO:-0700
TZNAME:PDT
DTSTART:20260308T100000
END:DAYLIGHT
BEGIN:STANDARD
TZOFFSETFROM:-0700
TZOFFSETTO:-0800
TZNAME:PST
DTSTART:20261101T090000
END:STANDARD
BEGIN:DAYLIGHT
TZOFFSETFROM:-0800
TZOFFSETTO:-0700
TZNAME:PDT
DTSTART:20270314T100000
END:DAYLIGHT
BEGIN:STANDARD
TZOFFSETFROM:-0700
TZOFFSETTO:-0800
TZNAME:PST
DTSTART:20271107T090000
END:STANDARD
END:VTIMEZONE
BEGIN:VEVENT
DTSTART;VALUE=DATE:20260306
DTEND;VALUE=DATE:20260307
DTSTAMP:20260421T223322
CREATED:20250918T164729Z
LAST-MODIFIED:20250918T164729Z
UID:10001079-1772755200-1772841599@www.saintkierancatholicschool.org
SUMMARY:Deposit Day
DESCRIPTION:
URL:https://www.saintkierancatholicschool.org/event/deposit-day-25
END:VEVENT
BEGIN:VEVENT
DTSTART;VALUE=DATE:20260306
DTEND;VALUE=DATE:20260307
DTSTAMP:20260421T223322
CREATED:20260304T234947Z
LAST-MODIFIED:20260304T234947Z
UID:10001264-1772755200-1772841599@www.saintkierancatholicschool.org
SUMMARY:Padres Order Forms Due
DESCRIPTION:
URL:https://www.saintkierancatholicschool.org/event/padres-order-forms-due
END:VEVENT
BEGIN:VEVENT
DTSTART;TZID=America/Los_Angeles:20260306T100000
DTEND;TZID=America/Los_Angeles:20260306T100000
DTSTAMP:20260421T223322
CREATED:20250918T164729Z
LAST-MODIFIED:20250918T164729Z
UID:10001078-1772791200-1772791200@www.saintkierancatholicschool.org
SUMMARY:Adoration and Benediction
DESCRIPTION:
URL:https://www.saintkierancatholicschool.org/event/adoration-and-benediction-12
END:VEVENT
BEGIN:VEVENT
DTSTART;TZID=America/Los_Angeles:20260306T141500
DTEND;TZID=America/Los_Angeles:20260306T141500
DTSTAMP:20260421T223322
CREATED:20260225T170113Z
LAST-MODIFIED:20260225T170113Z
UID:10001261-1772806500-1772806500@www.saintkierancatholicschool.org
SUMMARY:Stations of the Cross
DESCRIPTION:
URL:https://www.saintkierancatholicschool.org/event/stations-of-the-cross-8
END:VEVENT
BEGIN:VEVENT
DTSTART;TZID=America/Los_Angeles:20260306T180000
DTEND;TZID=America/Los_Angeles:20260306T180000
DTSTAMP:20260421T223322
CREATED:20250918T164730Z
LAST-MODIFIED:20250918T164730Z
UID:10001080-1772820000-1772820000@www.saintkierancatholicschool.org
SUMMARY:Parent Workshop for First Reconciliation/Communion
DESCRIPTION:
URL:https://www.saintkierancatholicschool.org/event/parent-workshop-for-first-reconciliation-communion
END:VEVENT
END:VCALENDAR