BEGIN:VCALENDAR
VERSION:2.0
PRODID:-//St. Kieran Catholic School - ECPv6.15.17.1//NONSGML v1.0//EN
CALSCALE:GREGORIAN
METHOD:PUBLISH
X-WR-CALNAME:St. Kieran Catholic School
X-ORIGINAL-URL:https://www.saintkierancatholicschool.org
X-WR-CALDESC:Events for St. Kieran Catholic School
REFRESH-INTERVAL;VALUE=DURATION:PT1H
X-Robots-Tag:noindex
X-PUBLISHED-TTL:PT1H
BEGIN:VTIMEZONE
TZID:America/Los_Angeles
BEGIN:DAYLIGHT
TZOFFSETFROM:-0800
TZOFFSETTO:-0700
TZNAME:PDT
DTSTART:20250309T100000
END:DAYLIGHT
BEGIN:STANDARD
TZOFFSETFROM:-0700
TZOFFSETTO:-0800
TZNAME:PST
DTSTART:20251102T090000
END:STANDARD
BEGIN:DAYLIGHT
TZOFFSETFROM:-0800
TZOFFSETTO:-0700
TZNAME:PDT
DTSTART:20260308T100000
END:DAYLIGHT
BEGIN:STANDARD
TZOFFSETFROM:-0700
TZOFFSETTO:-0800
TZNAME:PST
DTSTART:20261101T090000
END:STANDARD
BEGIN:DAYLIGHT
TZOFFSETFROM:-0800
TZOFFSETTO:-0700
TZNAME:PDT
DTSTART:20270314T100000
END:DAYLIGHT
BEGIN:STANDARD
TZOFFSETFROM:-0700
TZOFFSETTO:-0800
TZNAME:PST
DTSTART:20271107T090000
END:STANDARD
END:VTIMEZONE
BEGIN:VEVENT
DTSTART;VALUE=DATE:20260316
DTEND;VALUE=DATE:20260321
DTSTAMP:20260422T020141
CREATED:20250918T162854Z
LAST-MODIFIED:20250918T162854Z
UID:10001052-1773619200-1774051199@www.saintkierancatholicschool.org
SUMMARY:Book Fair
DESCRIPTION:
URL:https://www.saintkierancatholicschool.org/event/book-fair-3
END:VEVENT
BEGIN:VEVENT
DTSTART;VALUE=DATE:20260317
DTEND;VALUE=DATE:20260318
DTSTAMP:20260422T020141
CREATED:20250918T163255Z
LAST-MODIFIED:20250918T163255Z
UID:10001060-1773705600-1773791999@www.saintkierancatholicschool.org
SUMMARY:Happy St. Patricks Day
DESCRIPTION:
URL:https://www.saintkierancatholicschool.org/event/happy-st-patricks-day
END:VEVENT
BEGIN:VEVENT
DTSTART;VALUE=DATE:20260317
DTEND;VALUE=DATE:20260318
DTSTAMP:20260422T020141
CREATED:20260302T193108Z
LAST-MODIFIED:20260302T193108Z
UID:10001263-1773705600-1773791999@www.saintkierancatholicschool.org
SUMMARY:Wear Green Shirts + Green Add Ons
DESCRIPTION:
URL:https://www.saintkierancatholicschool.org/event/wear-green-shirts-green-add-ons
END:VEVENT
BEGIN:VEVENT
DTSTART;TZID=America/Los_Angeles:20260317T103000
DTEND;TZID=America/Los_Angeles:20260317T103000
DTSTAMP:20260422T020141
CREATED:20250918T163254Z
LAST-MODIFIED:20260220T230937Z
UID:10001059-1773743400-1773743400@www.saintkierancatholicschool.org
SUMMARY:Confessions 4th & 5th
DESCRIPTION:
URL:https://www.saintkierancatholicschool.org/event/confessions-3rd
END:VEVENT
END:VCALENDAR