BEGIN:VCALENDAR
VERSION:2.0
PRODID:-//St. Kieran Catholic School - ECPv6.15.17.1//NONSGML v1.0//EN
CALSCALE:GREGORIAN
METHOD:PUBLISH
X-ORIGINAL-URL:https://www.saintkierancatholicschool.org
X-WR-CALDESC:Events for St. Kieran Catholic School
REFRESH-INTERVAL;VALUE=DURATION:PT1H
X-Robots-Tag:noindex
X-PUBLISHED-TTL:PT1H
BEGIN:VTIMEZONE
TZID:America/Los_Angeles
BEGIN:DAYLIGHT
TZOFFSETFROM:-0800
TZOFFSETTO:-0700
TZNAME:PDT
DTSTART:20250309T100000
END:DAYLIGHT
BEGIN:STANDARD
TZOFFSETFROM:-0700
TZOFFSETTO:-0800
TZNAME:PST
DTSTART:20251102T090000
END:STANDARD
BEGIN:DAYLIGHT
TZOFFSETFROM:-0800
TZOFFSETTO:-0700
TZNAME:PDT
DTSTART:20260308T100000
END:DAYLIGHT
BEGIN:STANDARD
TZOFFSETFROM:-0700
TZOFFSETTO:-0800
TZNAME:PST
DTSTART:20261101T090000
END:STANDARD
BEGIN:DAYLIGHT
TZOFFSETFROM:-0800
TZOFFSETTO:-0700
TZNAME:PDT
DTSTART:20270314T100000
END:DAYLIGHT
BEGIN:STANDARD
TZOFFSETFROM:-0700
TZOFFSETTO:-0800
TZNAME:PST
DTSTART:20271107T090000
END:STANDARD
END:VTIMEZONE
BEGIN:VEVENT
DTSTART;TZID=America/Los_Angeles:20260327T140000
DTEND;TZID=America/Los_Angeles:20260327T140000
DTSTAMP:20260422T020258
CREATED:20250918T164931Z
LAST-MODIFIED:20250918T164931Z
UID:10001085-1774620000-1774620000@www.saintkierancatholicschool.org
SUMMARY:LIVING Stations Performed by 8th Grade
DESCRIPTION:
URL:https://www.saintkierancatholicschool.org/event/living-stations-performed-by-8th-grade
END:VEVENT
BEGIN:VEVENT
DTSTART;TZID=America/Los_Angeles:20260327T143000
DTEND;TZID=America/Los_Angeles:20260327T143000
DTSTAMP:20260422T020258
CREATED:20250918T164930Z
LAST-MODIFIED:20250918T164930Z
UID:10001084-1774621800-1774621800@www.saintkierancatholicschool.org
SUMMARY:Fire Drill
DESCRIPTION:
URL:https://www.saintkierancatholicschool.org/event/fire-drill-8
END:VEVENT
END:VCALENDAR