BEGIN:VCALENDAR
VERSION:2.0
PRODID:-//St. Kieran Catholic School - ECPv6.15.17.1//NONSGML v1.0//EN
CALSCALE:GREGORIAN
METHOD:PUBLISH
X-ORIGINAL-URL:https://www.saintkierancatholicschool.org
X-WR-CALDESC:Events for St. Kieran Catholic School
REFRESH-INTERVAL;VALUE=DURATION:PT1H
X-Robots-Tag:noindex
X-PUBLISHED-TTL:PT1H
BEGIN:VTIMEZONE
TZID:America/Los_Angeles
BEGIN:DAYLIGHT
TZOFFSETFROM:-0800
TZOFFSETTO:-0700
TZNAME:PDT
DTSTART:20250309T100000
END:DAYLIGHT
BEGIN:STANDARD
TZOFFSETFROM:-0700
TZOFFSETTO:-0800
TZNAME:PST
DTSTART:20251102T090000
END:STANDARD
BEGIN:DAYLIGHT
TZOFFSETFROM:-0800
TZOFFSETTO:-0700
TZNAME:PDT
DTSTART:20260308T100000
END:DAYLIGHT
BEGIN:STANDARD
TZOFFSETFROM:-0700
TZOFFSETTO:-0800
TZNAME:PST
DTSTART:20261101T090000
END:STANDARD
BEGIN:DAYLIGHT
TZOFFSETFROM:-0800
TZOFFSETTO:-0700
TZNAME:PDT
DTSTART:20270314T100000
END:DAYLIGHT
BEGIN:STANDARD
TZOFFSETFROM:-0700
TZOFFSETTO:-0800
TZNAME:PST
DTSTART:20271107T090000
END:STANDARD
END:VTIMEZONE
BEGIN:VEVENT
DTSTART;VALUE=DATE:20260421
DTEND;VALUE=DATE:20260422
DTSTAMP:20260421T184341
CREATED:20260415T183625Z
LAST-MODIFIED:20260415T183625Z
UID:10001284-1776729600-1776815999@www.saintkierancatholicschool.org
SUMMARY:PE - All Grades
DESCRIPTION:
URL:https://www.saintkierancatholicschool.org/event/pe-all-grades-99
END:VEVENT
BEGIN:VEVENT
DTSTART;TZID=America/Los_Angeles:20260422T083000
DTEND;TZID=America/Los_Angeles:20260422T083000
DTSTAMP:20260421T184341
CREATED:20250918T170032Z
LAST-MODIFIED:20260415T192544Z
UID:10001096-1776846600-1776846600@www.saintkierancatholicschool.org
SUMMARY:School Mass
DESCRIPTION:
URL:https://www.saintkierancatholicschool.org/event/school-mass-27
END:VEVENT
BEGIN:VEVENT
DTSTART;TZID=America/Los_Angeles:20260422T130000
DTEND;TZID=America/Los_Angeles:20260422T130000
DTSTAMP:20260421T184341
CREATED:20250918T170232Z
LAST-MODIFIED:20250918T170232Z
UID:10001100-1776862800-1776862800@www.saintkierancatholicschool.org
SUMMARY:Dismissal
DESCRIPTION:
URL:https://www.saintkierancatholicschool.org/event/dismissal-18
END:VEVENT
BEGIN:VEVENT
DTSTART;VALUE=DATE:20260423
DTEND;VALUE=DATE:20260424
DTSTAMP:20260421T184341
CREATED:20260415T191157Z
LAST-MODIFIED:20260415T191157Z
UID:10001285-1776902400-1776988799@www.saintkierancatholicschool.org
SUMMARY:PE - All Grades
DESCRIPTION:
URL:https://www.saintkierancatholicschool.org/event/pe-all-grades-100
END:VEVENT
BEGIN:VEVENT
DTSTART;TZID=America/Los_Angeles:20260423T160000
DTEND;TZID=America/Los_Angeles:20260423T180000
DTSTAMP:20260421T184341
CREATED:20260318T181318Z
LAST-MODIFIED:20260318T181318Z
UID:10001274-1776960000-1776967200@www.saintkierancatholicschool.org
SUMMARY:Art Show and Pasta Dinner
DESCRIPTION:
URL:https://www.saintkierancatholicschool.org/event/art-show-and-pasta-dinner
END:VEVENT
BEGIN:VEVENT
DTSTART;TZID=America/Los_Angeles:20260424T130000
DTEND;TZID=America/Los_Angeles:20260424T130000
DTSTAMP:20260421T184341
CREATED:20250918T170635Z
LAST-MODIFIED:20260318T191839Z
UID:10001112-1777035600-1777035600@www.saintkierancatholicschool.org
SUMMARY:Secure Campus Drill
DESCRIPTION:
URL:https://www.saintkierancatholicschool.org/event/secure-campus-drill-4
END:VEVENT
BEGIN:VEVENT
DTSTART;VALUE=DATE:20260427
DTEND;VALUE=DATE:20260428
DTSTAMP:20260421T184341
CREATED:20260325T150351Z
LAST-MODIFIED:20260325T150352Z
UID:10001282-1777248000-1777334399@www.saintkierancatholicschool.org
SUMMARY:3rd Grade to US Midway
DESCRIPTION:
URL:https://www.saintkierancatholicschool.org/event/3rd-grade-to-us-midway
END:VEVENT
BEGIN:VEVENT
DTSTART;TZID=America/Los_Angeles:20260427T081500
DTEND;TZID=America/Los_Angeles:20260427T081500
DTSTAMP:20260421T184341
CREATED:20250918T165133Z
LAST-MODIFIED:20250918T165133Z
UID:10001092-1777277700-1777277700@www.saintkierancatholicschool.org
SUMMARY:Morning Assembly
DESCRIPTION:
URL:https://www.saintkierancatholicschool.org/event/morning-assembly-53
END:VEVENT
BEGIN:VEVENT
DTSTART;TZID=America/Los_Angeles:20260429T083000
DTEND;TZID=America/Los_Angeles:20260429T083000
DTSTAMP:20260421T184341
CREATED:20250918T170032Z
LAST-MODIFIED:20250918T170032Z
UID:10001097-1777451400-1777451400@www.saintkierancatholicschool.org
SUMMARY:School Mass
DESCRIPTION:
URL:https://www.saintkierancatholicschool.org/event/school-mass-28
END:VEVENT
BEGIN:VEVENT
DTSTART;TZID=America/Los_Angeles:20260429T130000
DTEND;TZID=America/Los_Angeles:20260429T130000
DTSTAMP:20260421T184341
CREATED:20250918T170232Z
LAST-MODIFIED:20250918T170232Z
UID:10001101-1777467600-1777467600@www.saintkierancatholicschool.org
SUMMARY:Dismissal
DESCRIPTION:
URL:https://www.saintkierancatholicschool.org/event/dismissal-19
END:VEVENT
END:VCALENDAR