BEGIN:VCALENDAR
VERSION:2.0
PRODID:-//St. Kieran Catholic School - ECPv6.15.17.1//NONSGML v1.0//EN
CALSCALE:GREGORIAN
METHOD:PUBLISH
X-ORIGINAL-URL:https://www.saintkierancatholicschool.org
X-WR-CALDESC:Events for St. Kieran Catholic School
REFRESH-INTERVAL;VALUE=DURATION:PT1H
X-Robots-Tag:noindex
X-PUBLISHED-TTL:PT1H
BEGIN:VTIMEZONE
TZID:America/Los_Angeles
BEGIN:DAYLIGHT
TZOFFSETFROM:-0800
TZOFFSETTO:-0700
TZNAME:PDT
DTSTART:20240310T100000
END:DAYLIGHT
BEGIN:STANDARD
TZOFFSETFROM:-0700
TZOFFSETTO:-0800
TZNAME:PST
DTSTART:20241103T090000
END:STANDARD
BEGIN:DAYLIGHT
TZOFFSETFROM:-0800
TZOFFSETTO:-0700
TZNAME:PDT
DTSTART:20250309T100000
END:DAYLIGHT
BEGIN:STANDARD
TZOFFSETFROM:-0700
TZOFFSETTO:-0800
TZNAME:PST
DTSTART:20251102T090000
END:STANDARD
BEGIN:DAYLIGHT
TZOFFSETFROM:-0800
TZOFFSETTO:-0700
TZNAME:PDT
DTSTART:20260308T100000
END:DAYLIGHT
BEGIN:STANDARD
TZOFFSETFROM:-0700
TZOFFSETTO:-0800
TZNAME:PST
DTSTART:20261101T090000
END:STANDARD
END:VTIMEZONE
BEGIN:VEVENT
DTSTART;TZID=America/Los_Angeles:20250510T121500
DTEND;TZID=America/Los_Angeles:20250510T121500
DTSTAMP:20260423T165941
CREATED:20250415T191130Z
LAST-MODIFIED:20250415T191130Z
UID:10000428-1746879300-1746879300@www.saintkierancatholicschool.org
SUMMARY:Junior Varsity Girls Basketball vs. St. Charles
DESCRIPTION:
URL:https://www.saintkierancatholicschool.org/event/junior-varsity-girls-basketball-vs-st-charles
LOCATION:Christ Lutheran
END:VEVENT
BEGIN:VEVENT
DTSTART;TZID=America/Los_Angeles:20250412T121500
DTEND;TZID=America/Los_Angeles:20250412T121500
DTSTAMP:20260423T165941
CREATED:20250409T194754Z
LAST-MODIFIED:20250409T194754Z
UID:10000412-1744460100-1744460100@www.saintkierancatholicschool.org
SUMMARY:JV Girls Basketball vs. Our Lady of Grace
DESCRIPTION:
URL:https://www.saintkierancatholicschool.org/event/jv-girls-basketball-vs-our-lady-of-grace
LOCATION:Christ Lutheran
END:VEVENT
BEGIN:VEVENT
DTSTART;TZID=America/Los_Angeles:20250408T171500
DTEND;TZID=America/Los_Angeles:20250408T171500
DTSTAMP:20260423T165941
CREATED:20250403T150809Z
LAST-MODIFIED:20250403T150809Z
UID:10000402-1744132500-1744132500@www.saintkierancatholicschool.org
SUMMARY:Junior Varsity Girls Basketball vs. Christ Lutheran
DESCRIPTION:
URL:https://www.saintkierancatholicschool.org/event/junior-varsity-girls-basketball-vs-christ-lutheran
LOCATION:Christ Lutheran
END:VEVENT
BEGIN:VEVENT
DTSTART;TZID=America/Los_Angeles:20250325T171500
DTEND;TZID=America/Los_Angeles:20250325T171500
DTSTAMP:20260423T165941
CREATED:20250326T175140Z
LAST-MODIFIED:20250326T175140Z
UID:10000385-1742922900-1742922900@www.saintkierancatholicschool.org
SUMMARY:Girls JV Basketball @ St. Charles
DESCRIPTION:
URL:https://www.saintkierancatholicschool.org/event/girls-jv-basketball-st-charles
LOCATION:Christ Lutheran
END:VEVENT
END:VCALENDAR