BEGIN:VCALENDAR
VERSION:2.0
PRODID:-//St. Kieran Catholic School - ECPv6.15.17.1//NONSGML v1.0//EN
CALSCALE:GREGORIAN
METHOD:PUBLISH
X-WR-CALNAME:St. Kieran Catholic School
X-ORIGINAL-URL:https://www.saintkierancatholicschool.org
X-WR-CALDESC:Events for St. Kieran Catholic School
REFRESH-INTERVAL;VALUE=DURATION:PT1H
X-Robots-Tag:noindex
X-PUBLISHED-TTL:PT1H
BEGIN:VTIMEZONE
TZID:America/Los_Angeles
BEGIN:DAYLIGHT
TZOFFSETFROM:-0800
TZOFFSETTO:-0700
TZNAME:PDT
DTSTART:20240310T100000
END:DAYLIGHT
BEGIN:STANDARD
TZOFFSETFROM:-0700
TZOFFSETTO:-0800
TZNAME:PST
DTSTART:20241103T090000
END:STANDARD
BEGIN:DAYLIGHT
TZOFFSETFROM:-0800
TZOFFSETTO:-0700
TZNAME:PDT
DTSTART:20250309T100000
END:DAYLIGHT
BEGIN:STANDARD
TZOFFSETFROM:-0700
TZOFFSETTO:-0800
TZNAME:PST
DTSTART:20251102T090000
END:STANDARD
BEGIN:DAYLIGHT
TZOFFSETFROM:-0800
TZOFFSETTO:-0700
TZNAME:PDT
DTSTART:20260308T100000
END:DAYLIGHT
BEGIN:STANDARD
TZOFFSETFROM:-0700
TZOFFSETTO:-0800
TZNAME:PST
DTSTART:20261101T090000
END:STANDARD
END:VTIMEZONE
BEGIN:VEVENT
DTSTART;TZID=America/Los_Angeles:20250920T123000
DTEND;TZID=America/Los_Angeles:20250920T123000
DTSTAMP:20260422T134855
CREATED:20250922T150006Z
LAST-MODIFIED:20250922T150006Z
UID:10001165-1758371400-1758371400@www.saintkierancatholicschool.org
SUMMARY:Varsity Volleyball vs. Madeleine
DESCRIPTION:
URL:https://www.saintkierancatholicschool.org/event/varsity-volleyball-vs-madeleine
LOCATION:OLP
END:VEVENT
BEGIN:VEVENT
DTSTART;TZID=America/Los_Angeles:20250920T093000
DTEND;TZID=America/Los_Angeles:20250920T093000
DTSTAMP:20260422T134855
CREATED:20250922T145933Z
LAST-MODIFIED:20250922T145933Z
UID:10001164-1758360600-1758360600@www.saintkierancatholicschool.org
SUMMARY:JV Volleyball vs. OLG
DESCRIPTION:
URL:https://www.saintkierancatholicschool.org/event/jv-volleyball-vs-olg
LOCATION:OLP
END:VEVENT
BEGIN:VEVENT
DTSTART;TZID=America/Los_Angeles:20250329T123000
DTEND;TZID=America/Los_Angeles:20250329T123000
DTSTAMP:20260422T134855
CREATED:20250326T175252Z
LAST-MODIFIED:20250326T175252Z
UID:10000386-1743251400-1743251400@www.saintkierancatholicschool.org
SUMMARY:Girls JV Basketball @ St. Martin
DESCRIPTION:
URL:https://www.saintkierancatholicschool.org/event/girls-jv-basketball-st-martin
LOCATION:OLP
END:VEVENT
END:VCALENDAR